BEGIN:VCALENDAR
VERSION:2.0
PRODID:-//Megaspace - ECPv6.1.3//NONSGML v1.0//EN
CALSCALE:GREGORIAN
METHOD:PUBLISH
X-WR-CALNAME:Megaspace
X-ORIGINAL-URL:https://megaquinta.com.br
X-WR-CALDESC:Eventos para Megaspace
REFRESH-INTERVAL;VALUE=DURATION:PT1H
X-Robots-Tag:noindex
X-PUBLISHED-TTL:PT1H
BEGIN:VTIMEZONE
TZID:America/Sao_Paulo
BEGIN:STANDARD
TZOFFSETFROM:-0300
TZOFFSETTO:-0300
TZNAME:-03
DTSTART:20230101T000000
END:STANDARD
END:VTIMEZONE
BEGIN:VEVENT
DTSTART;TZID=America/Sao_Paulo:20230923T080000
DTEND;TZID=America/Sao_Paulo:20230923T170000
DTSTAMP:20260421T200943
CREATED:20230831T211730Z
LAST-MODIFIED:20230926T220715Z
UID:26202-1695456000-1695488400@megaquinta.com.br
SUMMARY:HELDER SHAD - Curso + Track
DESCRIPTION:Chegou a hora de você dominar de vez a sua motocicleta! \nVem aí mais uma edição do Curso de Pilotagem e Track Day da Equipe Helder Shad! \n• CURSO DE TÉCNICAS DE PILOTAGEM\n• TRACK DAY \nE muito mais:\n– EQUIPE DE INSTRUTORES CAPACITADOS\n– ATENÇÃO INDIVIDUALIZADA\n– CERTIFICADO VÁLIDO\n– AMBULÂNCIA NO LOCAL\n– 8 HORAS DE DURAÇÃO \nVAGAS LIMITADAS \nINSCRIÇÕES PELO WHATSAPP: (24) 98117-1208
URL:https://megaquinta.com.br/evento/helder-shad-curso-track/
CATEGORIES:Curso de Pilotagem / Track Day,Motociclismo
ATTACH;FMTTYPE=image/jpeg:https://megaquinta.com.br/wp-content/uploads/2023/08/helder_primeiro.jpg
END:VEVENT
BEGIN:VEVENT
DTSTART;TZID=America/Sao_Paulo:20230907T150000
DTEND;TZID=America/Sao_Paulo:20230907T220000
DTSTAMP:20260421T200943
CREATED:20230810T002544Z
LAST-MODIFIED:20231009T124500Z
UID:25364-1694098800-1694124000@megaquinta.com.br
SUMMARY:Mega Quinta de Setembro - Feriado!
DESCRIPTION:
URL:https://megaquinta.com.br/evento/mega-quinta-de-setembro-feriado/
CATEGORIES:Mega Quinta
ATTACH;FMTTYPE=image/png:https://megaquinta.com.br/wp-content/uploads/2023/08/banner_site_primeiro.png
END:VEVENT
BEGIN:VEVENT
DTSTART;TZID=America/Sao_Paulo:20230901T080000
DTEND;TZID=America/Sao_Paulo:20230901T170000
DTSTAMP:20260421T200943
CREATED:20230901T195851Z
LAST-MODIFIED:20230901T202048Z
UID:26207-1693555200-1693587600@megaquinta.com.br
SUMMARY:Curso de Direção Defensiva e Evasiva - PM Feminina
DESCRIPTION:No dia da Policial Militar Feminina de MG tivemos a honra de receber em nosso circuito o Curso de direção defensiva e evasiva de viaturas policiais – EXCLUSIVO para a P.M FEMININA
URL:https://megaquinta.com.br/evento/curso-de-direcao-defensiva-e-evasiva-pm-feminina/
CATEGORIES:Eventos Militares
ATTACH;FMTTYPE=image/jpeg:https://megaquinta.com.br/wp-content/uploads/2023/09/PM-FEMININA-275-scaled.jpg
END:VEVENT
BEGIN:VEVENT
DTSTART;TZID=America/Sao_Paulo:20230826T080000
DTEND;TZID=America/Sao_Paulo:20230826T170000
DTSTAMP:20260421T200943
CREATED:20230427T155839Z
LAST-MODIFIED:20230828T043125Z
UID:11285-1693036800-1693069200@megaquinta.com.br
SUMMARY:Helder Shad - Curso de Pilotagem e Track Day
DESCRIPTION:26 de agosto é o dia que você vai dominar a sua moto! \n  \nCurso de Pilotagem e Track Day da Equipe Helder Shad! \n  \nVAGAS LIMITADÍSSIMAS! \nInscrições e Informações: (24) 98117-1208
URL:https://megaquinta.com.br/evento/helder-shad-curso-de-pilotagem-e-track-day/
CATEGORIES:Curso de Pilotagem / Track Day,Motociclismo
ATTACH;FMTTYPE=image/jpeg:https://megaquinta.com.br/wp-content/uploads/2023/04/banner_helder_site_primeiro_junho-scaled.jpg
END:VEVENT
BEGIN:VEVENT
DTSTART;TZID=America/Sao_Paulo:20230820T080000
DTEND;TZID=America/Sao_Paulo:20230820T170000
DTSTAMP:20260421T200943
CREATED:20230629T215111Z
LAST-MODIFIED:20230629T215112Z
UID:21688-1692518400-1692550800@megaquinta.com.br
SUMMARY:Track Day Classe A
DESCRIPTION:Vem aí mais uma edição do Curso de Pilotagem e Track Day da Equipe Classe A! \nInformações: (021) 970287033
URL:https://megaquinta.com.br/evento/track-day-classe-a-6/
CATEGORIES:Curso de Pilotagem / Track Day,Motociclismo
ATTACH;FMTTYPE=image/png:https://megaquinta.com.br/wp-content/uploads/2023/06/classeaagosto.png
END:VEVENT
BEGIN:VEVENT
DTSTART;TZID=America/Sao_Paulo:20230812T080000
DTEND;TZID=America/Sao_Paulo:20230812T220000
DTSTAMP:20260421T200943
CREATED:20230814T125014Z
LAST-MODIFIED:20230818T225113Z
UID:25564-1691827200-1691877600@megaquinta.com.br
SUMMARY:Drag Race Experience
DESCRIPTION:É um apaixonado por automobilismo e está em busca de momentos inesquecíveis? Este evento foi feito sob medida para você.
URL:https://megaquinta.com.br/evento/drag-race-experience/
ATTACH;FMTTYPE=image/png:https://megaquinta.com.br/wp-content/uploads/2023/08/IMG_0BE205F22BBD-1.png
END:VEVENT
BEGIN:VEVENT
DTSTART;TZID=America/Sao_Paulo:20230810T183000
DTEND;TZID=America/Sao_Paulo:20230810T235500
DTSTAMP:20260421T200943
CREATED:20230712T191700Z
LAST-MODIFIED:20241016T162745Z
UID:22038-1691692200-1691711700@megaquinta.com.br
SUMMARY:Mega Quinta de Agosto
DESCRIPTION:
URL:https://megaquinta.com.br/evento/mega-quinta-de-agosto/
CATEGORIES:Mega Quinta
ATTACH;FMTTYPE=image/png:https://megaquinta.com.br/wp-content/uploads/2023/07/agosto-1.png
END:VEVENT
BEGIN:VEVENT
DTSTART;TZID=America/Sao_Paulo:20230809T000000
DTEND;TZID=America/Sao_Paulo:20230809T000000
DTSTAMP:20260421T200943
CREATED:20230810T002240Z
LAST-MODIFIED:20230810T002240Z
UID:10549-1691539200-1691539200@megaquinta.com.br
SUMMARY:Mega Quinta – 2015
DESCRIPTION:Mega Quinta é um local onde a galera que curte carros\, música se encontram na segunda quinta de cada mês para bater papo\, expor suas máquinas e liberar muita adrenalina. \nO evento de 2015 contou com presenças ilustres: as panicats Mari Barbosa\, Mendigata e Dani Bananinha!  \nConfira os melhores registros:
URL:https://megaquinta.com.br/evento/mega-quinta-2015-2/
END:VEVENT
BEGIN:VEVENT
DTSTART;TZID=America/Sao_Paulo:20230805T120000
DTEND;TZID=America/Sao_Paulo:20230805T220000
DTSTAMP:20260421T200943
CREATED:20230512T004430Z
LAST-MODIFIED:20230808T021426Z
UID:11986-1691236800-1691272800@megaquinta.com.br
SUMMARY:Lista Área 31 - 2ª etapa
DESCRIPTION:2ª Etapada do Lista Área 31 no Mega! \n  \nOs carros mais velozes de Minas Gerais na pista do Mega \n  \nInformações: 31-988721450\n  \n 
URL:https://megaquinta.com.br/evento/arrancadas-lista-area31/
CATEGORIES:Arrancadas,Automobilismo
ATTACH;FMTTYPE=image/jpeg:https://megaquinta.com.br/wp-content/uploads/2023/05/banner_site_lista-scaled.jpg
END:VEVENT
BEGIN:VEVENT
DTSTART;TZID=America/Sao_Paulo:20230729T100000
DTEND;TZID=America/Sao_Paulo:20230730T170000
DTSTAMP:20260421T200943
CREATED:20230129T202448Z
LAST-MODIFIED:20230801T181031Z
UID:3881-1690624800-1690736400@megaquinta.com.br
SUMMARY:031 AirCooled - Encontro de Fuscas e derivados
DESCRIPTION:Vem aí o maior encontro de fuscas e derivados de Minas Gerais!\n\nVenda de Peças\nAlimentação no local\nEspaço para camping\nDiversas Premiações\n\n  \nIngressos a venda em: www.sympla.com.br/evento/031-aircooled/1863897 \nNão será permitido veículos de outras marcas e modelos que não forem refrigerados a ar na área de exposição do evento. Haverá uma área destinada para estes veículos.
URL:https://megaquinta.com.br/evento/031-aircooled-encontro-de-fuscas-e-derivados/
CATEGORIES:Automobilismo,Feiras e Exposições
ATTACH;FMTTYPE=image/png:https://megaquinta.com.br/wp-content/uploads/2023/01/Captura-de-Tela-2023-01-24-as-15.57.35-600x400-1.png
END:VEVENT
BEGIN:VEVENT
DTSTART;TZID=America/Sao_Paulo:20230722T170000
DTEND;TZID=America/Sao_Paulo:20230723T030000
DTSTAMP:20260421T200943
CREATED:20230523T171915Z
LAST-MODIFIED:20230726T224137Z
UID:12463-1690045200-1690081200@megaquinta.com.br
SUMMARY:Sorriso Maroto - As Antigas
DESCRIPTION:Ansiosos para o SORRISO MAROTO AS ANTIGAS em MINAS GERAIS? \nSorriso Maroto As Antigas passará por algumas cidades no Brasil! \nTrata-se de uma festa especial\, com edição limitada\, que será realizada em algumas cidades\, usando locações que inspiram o pagode. \nO projeto reunirá todos os grandes clássicos de carreira do Sorriso como Ainda Gosto de Você\, Não Tem Perdão\, A Primeira Namorada\, Amanhã\, Sinais\, Assim Você Mata o Papai e muitas outras do acervo de 24 anos de carreira\, para imergir o público em uma viagem no tempo pelas diferentes fases da banda. \nPreparados para escrever essa história com a gente? \nÁreas  \nSetor Diz Que Quer Ficar (Setor Vip) \nCerveja\, vodka\, sucos\, refrigerante e água\, liberados e valor 3º lote de R$ 165\,00 \n  \nSetor Me Olha nos Olhos (Front Stage): \nCerveja\, vodka\, gin\, tônica\, ice\, catuaba\, sucos\, refrigerante e água\, liberados\, com o valor 4º lote de R$ 245\,00 \nSorriso as Antigas Minas Gerais \nMega Space| MG \nSáb\, 22.07.23 \nIngressos: www.centraldoseventos.com.br \nInformações e Vendas de Lounges fechados ou individuais pelo telefone: (31) 99100-9095 \nTransporte de ida e volta saindo de vários pontos da cidade. CLIQUE AQUI para comprar. \n  \nESTACIONAMENTO EXCLUSIVO: \nVALORES DO ESTACIONAMENTO: R$40 (CARROS E MOTOS) \nCompre antecipado: https://cutt.ly/FwtdlUii \nEstacionamento Seguro dentro do Mega Space \nATENÇÃO MOTORISTAS: \n\nO Mega Space possui amplo estacionamento com total segurança para seu veículo.\nSomente estacione dentro das dependências do Mega Space.\nVeículos parados ou estacionados nas ruas estarão sujeitos a multas e reboque.\n\n——— \nÔNIBUS E VANS: TEM ESTACIONAMENTO GRATUITO. \n\nDentro do Mega Space\, com  portaria exclusiva e acesso do público direto ao evento.\nEstacionamento com segurança e praça de alimentação.\n\n! ATENÇÃO MOTORISTAS: desembarque os passageiros somente dentro do Mega Space para maior conforto e segurança dos mesmos. \n  \nVAI DE ÔNIBUS OU VAN? \n\nO Mega Space possui amplo estacionamento exclusivo para ônibus e vans.\nPara seu maior conforto e segurança\, somente desembarque do transporte dentro das dependências do Mega Space.\nMemorize o local de desembarque na chegada: sua saída será feita pelo mesmo local.\nTodos os estacionamentos possuem entrada para o evento.\n\nDúvidas? clique aqui
URL:https://megaquinta.com.br/evento/sorriso-maroto-as-antigas/
CATEGORIES:Pagode
ATTACH;FMTTYPE=image/jpeg:https://megaquinta.com.br/wp-content/uploads/2023/05/sorrisomaroto_asantigas01-scaled.jpg
END:VEVENT
BEGIN:VEVENT
DTSTART;TZID=America/Sao_Paulo:20230713T183000
DTEND;TZID=America/Sao_Paulo:20230713T233000
DTSTAMP:20260421T200943
CREATED:20230609T121249Z
LAST-MODIFIED:20230806T182850Z
UID:16345-1689273000-1689291000@megaquinta.com.br
SUMMARY:Mega Quinta de Julho
DESCRIPTION:Mega Quinta realizada em 13/07.
URL:https://megaquinta.com.br/evento/mega-quinta-de-julho/
CATEGORIES:Mega Quinta
ATTACH;FMTTYPE=image/jpeg:https://megaquinta.com.br/wp-content/uploads/2023/06/megaquintajulho-scaled.jpg
END:VEVENT
BEGIN:VEVENT
DTSTART;TZID=America/Sao_Paulo:20230709T080000
DTEND;TZID=America/Sao_Paulo:20230709T170000
DTSTAMP:20260421T200943
CREATED:20230427T160616Z
LAST-MODIFIED:20230711T195047Z
UID:11290-1688889600-1688922000@megaquinta.com.br
SUMMARY:Expobaixos - Minas Gerais
DESCRIPTION:Expobaixos Minas no Megaspace 09.julho 7008 Films Nelio DGrazi e 101 Eventos\nEXPOBAIXOS MINAS GERAIS NO MEGA SPACE\nDOMINGO 09.JULHO.2023 DAS 07H ÀS 17:30H\n– CANAL 7008 FILMS (ALE E LEKA)\n– NELIO D’GRAZI\n– CAMPEONATO DE REBAIXADOS 101% EVENTOS\n– DAIANA LUZ – EXPOBAIXOS\n– COBERTURA DIEGO LOWREBAIXART\n– CAMPEONATO DE REBAIXADOS 101 EVENTOS\n– DESAFIO DA LOWBADA\n– COBERTURA FANATICAR\n– COBERTURA THE BAIXOS\nINGRESSOS NOS PONTOS DE VENDA E SITE\n\n1º LOTE R$ 30\, 2º LOTE R$ 35\, NA HORA R$ 40\n\n\nCRIANÇAS ATÉ 10 ANOS NÃO PAGAM INGRESSO.\nCARROS PAGAM ESTACIONAMENTO R$ 20 E MOTOS R$ 15.\n\nINGRESSOS ANTECIPADOS 1º LOTE R$ 30\nINGRESSOS ANTECIPADOS 2º LOTE R$ 35\nINGRESSOS NA HORA R$ 40 POR PESSOA\n\nCOMPRE AGORA SEU INGRESSO: https://cutt.ly/9wtZaqwX\n\n\nREGRAS DO EVENTO:\n\nPROIBIDO:\n– ENTRAR COM BEBIDAS E ALIMENTOS\n– ENTRAR COM FACAS OU ARMAS DE QUALQUER TIPO\n– UTILIZAR SOM ALTO\n– FAZER MANOBRAS\, BURN OUT E AFINS\n– FICAR ANDANDO PELA PISTA\, TÊM QUE ESTACIONAR\n– UTILIZAR SOM AUTOMOTIVO\nPERMITIDO:\n– ENTRAR COM MÁQUINAS FOTOGRÁFICAS E FILMADORA\n– ENTRAR COM CADEIRAS DE PRAIA E TENDAS PORTÁTEIS\n\nInformações: (51)985622669
URL:https://megaquinta.com.br/evento/expobaixos-minas-gerais/
CATEGORIES:Automobilismo,Som - Rebaixados
ATTACH;FMTTYPE=image/jpeg:https://megaquinta.com.br/wp-content/uploads/2023/04/banner_site_primeiro_expobaixos-scaled.jpg
END:VEVENT
BEGIN:VEVENT
DTSTART;TZID=America/Sao_Paulo:20230623T080000
DTEND;TZID=America/Sao_Paulo:20230623T170000
DTSTAMP:20260421T200943
CREATED:20230427T195954Z
LAST-MODIFIED:20230427T195957Z
UID:11294-1687507200-1687539600@megaquinta.com.br
SUMMARY:Control Safaly - Curso de Direção Defensiva
DESCRIPTION:Vem aí o Curso de Direção Defensiva Avançada da Control Safely!\nCurso de Direção \n+ \nAlmoço e Coffee Break Incluso \nPrevenir é salvar! \n  \nInformações e inscrições: (31) 97138-1570 \nwww.controlsafely.com.br
URL:https://megaquinta.com.br/evento/control-safaly-curso-de-direcao-defensiva/
CATEGORIES:Automobilismo
ATTACH;FMTTYPE=image/jpeg:https://megaquinta.com.br/wp-content/uploads/2023/04/WhatsApp-Image-2023-04-26-at-19.07.51.jpeg
END:VEVENT
BEGIN:VEVENT
DTSTART;TZID=America/Sao_Paulo:20230618T080000
DTEND;TZID=America/Sao_Paulo:20230618T170000
DTSTAMP:20260421T200943
CREATED:20230427T154413Z
LAST-MODIFIED:20230621T234625Z
UID:11281-1687075200-1687107600@megaquinta.com.br
SUMMARY:Meu Track Minha Vida - 2ª edição / 2023
DESCRIPTION:Venha colocar o carro na pista e sentir a adrenalina de acelerar em um autódromo de verdade! \nInscrições: (31) 9 9714-5275
URL:https://megaquinta.com.br/evento/meu-track-minha-vida-2a-edicao-2023/
CATEGORIES:Automobilismo,Track Day
ATTACH;FMTTYPE=image/jpeg:https://megaquinta.com.br/wp-content/uploads/2023/04/MEUTRACKjunhoprimeiro_2etapa-scaled.jpg
END:VEVENT
BEGIN:VEVENT
DTSTART;TZID=America/Sao_Paulo:20230611T080000
DTEND;TZID=America/Sao_Paulo:20230611T170000
DTSTAMP:20260421T200943
CREATED:20230427T153238Z
LAST-MODIFIED:20230427T153240Z
UID:11275-1686470400-1686502800@megaquinta.com.br
SUMMARY:Equipe Classe A
DESCRIPTION:Vem aí a segunda edição 2023 do Curso de Pilotagem e Track Day da Equipe Classe A! \n  \nInformações: (021) 970287033
URL:https://megaquinta.com.br/evento/equipe-classe-a-6/
CATEGORIES:Curso de Pilotagem / Track Day,Motociclismo
ATTACH;FMTTYPE=image/jpeg:https://megaquinta.com.br/wp-content/uploads/2023/04/classea_junho_primeiro-scaled.jpg
END:VEVENT
BEGIN:VEVENT
DTSTART;TZID=America/Sao_Paulo:20230608T150000
DTEND;TZID=America/Sao_Paulo:20230608T230000
DTSTAMP:20260421T200943
CREATED:20230427T203834Z
LAST-MODIFIED:20230718T151241Z
UID:11304-1686236400-1686265200@megaquinta.com.br
SUMMARY:Mega Quinta - Edição Especial de Aniversário
DESCRIPTION:
URL:https://megaquinta.com.br/evento/mega-quinta-no-feriado/
CATEGORIES:Mega Quinta
ATTACH;FMTTYPE=image/jpeg:https://megaquinta.com.br/wp-content/uploads/2023/04/megaquinta_junho-2-scaled.jpg
END:VEVENT
BEGIN:VEVENT
DTSTART;TZID=America/Sao_Paulo:20230528T080000
DTEND;TZID=America/Sao_Paulo:20230528T170000
DTSTAMP:20260421T200943
CREATED:20230427T202150Z
LAST-MODIFIED:20230531T234510Z
UID:11299-1685260800-1685293200@megaquinta.com.br
SUMMARY:III TRACK SOLIDÁRIO - SPEED BIKE DAY
DESCRIPTION:Vem aí! III TRACK SOLIDÁRIO – SPEED BIKE DAY\n\n\n\n\n\nInformações: (31) 9 8866-5968
URL:https://megaquinta.com.br/evento/iii-track-solidario-speed-bike-day/
CATEGORIES:Curso de Pilotagem / Track Day,Motociclismo
ATTACH;FMTTYPE=image/jpeg:https://megaquinta.com.br/wp-content/uploads/2023/04/speedbike_primeiro-scaled.jpg
END:VEVENT
BEGIN:VEVENT
DTSTART;TZID=America/Sao_Paulo:20230511T183000
DTEND;TZID=America/Sao_Paulo:20230511T235900
DTSTAMP:20260421T200943
CREATED:20230323T000455Z
LAST-MODIFIED:20230607T171332Z
UID:9622-1683829800-1683849540@megaquinta.com.br
SUMMARY:Mega Quinta de maio
DESCRIPTION:
URL:https://megaquinta.com.br/evento/mega-quinta-de-maio/
CATEGORIES:Mega Quinta
ATTACH;FMTTYPE=image/jpeg:https://megaquinta.com.br/wp-content/uploads/2023/03/mqMaio_primeiro-scaled.jpg
END:VEVENT
BEGIN:VEVENT
DTSTART;TZID=America/Sao_Paulo:20230507T080000
DTEND;TZID=America/Sao_Paulo:20230507T170000
DTSTAMP:20260421T200943
CREATED:20230427T150919Z
LAST-MODIFIED:20230509T185554Z
UID:11270-1683446400-1683478800@megaquinta.com.br
SUMMARY:Triumph Experience - TRX
DESCRIPTION:Se liga piloto!\nNo dia 07/05\, teremos no TRX Days o curso de pilotagem defensiva on-road 1 no Mega Space. \nUma oportunidade fantástica de aprender mais e compartilhar experiências sobre duas rodas!\nSeus rides serão muito mais seguros e confortáveis. \nSobre o Curso: \nO Curso de Pilotagem Defensiva ON-ROAD 1 foi desenvolvido e formatado para atender o motociclista que está iniciando sua vida nas duas rodas\, ou retornando depois de uma longa pausa\, e precisa de um treinamento focado nas técnicas básicas de pilotagem para enfrentar os desafios do trânsito do dia a dia. Se você já pilota moto na rua\, esse curso se torna muito básico\, devendo migrar para o ON-ROAD 2. Se você não tem segurança para pilotar na rua ou quer uma atenção bem dedicada para os fundamentos da pilotagem\, esse é o curso certo.\nO sistema de habilitação deficitário\, somado ao aumento das tecnologias embarcadas nas motos faz com que cada vez mais seja necessário o aprendizado de técnicas que proporcionem a pilotagem segura\, eficiente e prazerosa\, utilizando da melhor maneira possível tudo o que a motocicleta pode oferecer. Venha pilotar com a TRX e desfrute da sua moto com confiança e segurança.\nOs exercícios abordados são: \n▼ Embarque e desembarque da motocicleta; \n▼ Uso do cavalete central e levantamento da moto; \n▼ Controle da moto em baixa velocidade e em manobras; \n▼ Uso correto dos freios; \n▼ Visão correta na pilotagem; \n▼ Saídas rápidas e em subidas; \n▼ Parada em piso desnivelado e como lidar com a altura da motocicleta; \n▼ Posicionamento e abordagem em curvas; \n▼ Outras dicas para o aprimoramento da pilotagem. \n\nInformações:\ncontato@triumphexperience.com.br \nWhatsapp: (19) 992 554 787
URL:https://megaquinta.com.br/evento/triumph-experience-trx-2/
CATEGORIES:Curso de Pilotagem / Track Day,Motociclismo
ATTACH;FMTTYPE=image/jpeg:https://megaquinta.com.br/wp-content/uploads/2023/04/triumph-primeiro-scaled.jpg
ORGANIZER;CN="Triumph%20BH":MAILTO:contato@triumphexperience.com.br
END:VEVENT
BEGIN:VEVENT
DTSTART;TZID=America/Sao_Paulo:20230504T080000
DTEND;TZID=America/Sao_Paulo:20230504T120000
DTSTAMP:20260421T200943
CREATED:20230504T180919Z
LAST-MODIFIED:20230507T002810Z
UID:11487-1683187200-1683201600@megaquinta.com.br
SUMMARY:Curso de Policiamento Especializado- PMMG
DESCRIPTION:CURSO DE POLICIAMENTO ESPECIALIZADO
URL:https://megaquinta.com.br/evento/curso-de-policiamento-especializado-pmmg/
CATEGORIES:Eventos Militares
ATTACH;FMTTYPE=image/png:https://megaquinta.com.br/wp-content/uploads/2023/05/Captura-de-Tela-2023-05-04-as-15.08.30.png
END:VEVENT
BEGIN:VEVENT
DTSTART;TZID=America/Sao_Paulo:20230429T080000
DTEND;TZID=America/Sao_Paulo:20230429T180000
DTSTAMP:20260421T200943
CREATED:20230227T133454Z
LAST-MODIFIED:20230507T005259Z
UID:9092-1682755200-1682791200@megaquinta.com.br
SUMMARY:3º Mopar Uai - Chrysler Clube MG
DESCRIPTION:Mopar Uai – Chrysler Clube Minas Gerais\n  \nEvento Fechado para sócios e amigos do CCMG \n  \nInformações: 31 9975-2574
URL:https://megaquinta.com.br/evento/3o-mopar-uai-chrysler-clube-mg/
CATEGORIES:Automobilismo,Eventos Corporativos
ATTACH;FMTTYPE=image/jpeg:https://megaquinta.com.br/wp-content/uploads/2023/02/mopar-chrysllerprimeiro-scaled.jpg
END:VEVENT
BEGIN:VEVENT
DTSTART;TZID=America/Sao_Paulo:20230422T210000
DTEND;TZID=America/Sao_Paulo:20230423T050000
DTSTAMP:20260421T200944
CREATED:20230417T222527Z
LAST-MODIFIED:20230502T174355Z
UID:10554-1682197200-1682226000@megaquinta.com.br
SUMMARY:O Baile do Fera!
DESCRIPTION:O BAILE DO FERA vai fazer história mais uma vez\, em mais uma edição inédita!\n1 mega palco\, + de 20 atrações e 12 horas de muitas emoções\, fazendo muito barulho no Mega Space! \nVocê está preparado para viver essa experiência única no maio Festival de Funk e Trap de todos os tempos?! \nO Palco do maior baile do mundo\, apresenta pra vocês… \nFilipe Ret \nMc Cabelinho \nMc Daniel \nTz \nMc Paiva \nMc IG \nE +15 atrações de peso\, completando essa mega LINE! \nCorra e garanta seu ingresso! \n  \nIngressos pelo link: www.ingressosa.com/festival-o-baile-do-fera \nSÁB 22 ABR | 21Hrs\nMEGA SPACE \n  \n🔞 Classificação 16 anos \n  \n 
URL:https://megaquinta.com.br/evento/o-baile-do-fera/
CATEGORIES:Funk,Shows
ATTACH;FMTTYPE=image/jpeg:https://megaquinta.com.br/wp-content/uploads/2023/04/OBAILEDOFERA01-scaled.jpg
END:VEVENT
BEGIN:VEVENT
DTSTART;TZID=America/Sao_Paulo:20230422T120000
DTEND;TZID=America/Sao_Paulo:20230422T220000
DTSTAMP:20260421T200944
CREATED:20230129T145619Z
LAST-MODIFIED:20230425T205851Z
UID:3432-1682164800-1682200800@megaquinta.com.br
SUMMARY:Desafio - No Prep Area 31
DESCRIPTION:Vem aí a 1ª Etapa/2023 do Desafio No Prep – Lista Área 31\nOs carros mais velozes de Minas Gerais na pista de arrancada do Mega! \nDia 22/04 a partir de 12hs\nInformações:  (31) 9 8872-1450
URL:https://megaquinta.com.br/evento/desafionoprep2023/
CATEGORIES:Arrancadas,Automobilismo
ATTACH;FMTTYPE=image/jpeg:https://megaquinta.com.br/wp-content/uploads/2023/01/listaarea31_primeiro-scaled.jpg
END:VEVENT
BEGIN:VEVENT
DTSTART;TZID=America/Sao_Paulo:20230416T080000
DTEND;TZID=America/Sao_Paulo:20230416T170000
DTSTAMP:20260421T200944
CREATED:20230129T202303Z
LAST-MODIFIED:20230129T202303Z
UID:3877-1681632000-1681664400@megaquinta.com.br
SUMMARY:Equipe Classe A
DESCRIPTION:Vem aí mais um evento da Equipe Track Day Classe A! \n  \nBora acelerar na pista? \n  \nInscrições e Informações: (021) 97028-7033
URL:https://megaquinta.com.br/evento/equipe-classe-a-5/
CATEGORIES:Curso de Pilotagem / Track Day,Motociclismo
ATTACH;FMTTYPE=image/jpeg:https://megaquinta.com.br/wp-content/uploads/2023/01/CLASSEA_PRIMEIRO_2023-600x400-1.jpg
END:VEVENT
BEGIN:VEVENT
DTSTART;TZID=America/Sao_Paulo:20230406T183000
DTEND;TZID=America/Sao_Paulo:20230407T183000
DTSTAMP:20260421T200944
CREATED:20230406T200343Z
LAST-MODIFIED:20230529T153918Z
UID:10540-1680805800-1680892200@megaquinta.com.br
SUMMARY:Mega Quinta - Véspera de FERIADO!
DESCRIPTION:
URL:https://megaquinta.com.br/evento/mega-quinta-de-abril/
CATEGORIES:Mega Quinta
ATTACH;FMTTYPE=image/jpeg:https://megaquinta.com.br/wp-content/uploads/2023/03/banner_site_primeiro_ABRIL-scaled.jpg
END:VEVENT
BEGIN:VEVENT
DTSTART;TZID=America/Sao_Paulo:20230401T140000
DTEND;TZID=America/Sao_Paulo:20230401T220000
DTSTAMP:20260421T200944
CREATED:20230402T000124Z
LAST-MODIFIED:20230404T210229Z
UID:9579-1680357600-1680386400@megaquinta.com.br
SUMMARY:SUPER COPA - SUPERCAR SOMMG
DESCRIPTION:CONFIRMADÍSSIMO!!! \nDIA 01 ABRIL – SÁBADO \nDAS 14:00 ATÉ AS 22:00 \nSUPER CAR SOM AUTOMOTIVO\, REBAIXADOS NO DESAFIO MINAS CONTRA ESPÍRITO SANTO NO MEGA SLACE EM SANTA LUZIA \nETAPA OFICIAL SUPER COPA E COPA RAÍZ QUE PROMETE SER A MAIS DISPUTADA DE TODOS OS TEMPOS\, NÃO PERCAM VAI SER UM ESTOUROOOO
URL:https://megaquinta.com.br/evento/super-copa-supercar-sommg/
CATEGORIES:Automobilismo,Som - Rebaixados
ATTACH;FMTTYPE=image/jpeg:https://megaquinta.com.br/wp-content/uploads/2023/03/supercar2023_ABR_rimeiro-1-scaled.jpg
END:VEVENT
BEGIN:VEVENT
DTSTART;TZID=America/Sao_Paulo:20230326T080000
DTEND;TZID=America/Sao_Paulo:20230326T170000
DTSTAMP:20260421T200944
CREATED:20230413T204536Z
LAST-MODIFIED:20230413T204536Z
UID:10546-1679817600-1679850000@megaquinta.com.br
SUMMARY:Curso e Track Day – Helder Shad
DESCRIPTION:Vem aí o primeiro evento da Equipe Helder Shad em 2023 no Mega!\n  \nCurso de técnicas de pilotagem de moto e track day! \nDATA: 26 DE MARÇO! \nCURSO DE PILOTAGEM\n+TRACK DAY \nVAGAS LIMITADÍSSIMAS! \n  \nInscrições e Informações: (24) 98117-1208
URL:https://megaquinta.com.br/evento/curso-e-track-day-helder-shad-2/
END:VEVENT
BEGIN:VEVENT
DTSTART;TZID=America/Sao_Paulo:20230326T080000
DTEND;TZID=America/Sao_Paulo:20230326T170000
DTSTAMP:20260421T200944
CREATED:20230126T202153Z
LAST-MODIFIED:20230329T025801Z
UID:3873-1679817600-1679850000@megaquinta.com.br
SUMMARY:Curso e Track Day - Helder Shad
DESCRIPTION:Vem aí o primeiro evento da Equipe Helder Shad em 2023 no Mega!\n  \nCurso de técnicas de pilotagem de moto e track day! \nDATA: 26 DE MARÇO! \nCURSO DE PILOTAGEM\n+TRACK DAY \nVAGAS LIMITADÍSSIMAS! \n  \nInscrições e Informações: (24) 98117-1208
URL:https://megaquinta.com.br/evento/curso-e-track-day-helder-shad/
CATEGORIES:Curso de Pilotagem / Track Day,Motociclismo
ATTACH;FMTTYPE=image/jpeg:https://megaquinta.com.br/wp-content/uploads/2023/01/banner_helder_site_primeiro-600x400-1.jpg
END:VEVENT
BEGIN:VEVENT
DTSTART;TZID=America/Sao_Paulo:20230322T080000
DTEND;TZID=America/Sao_Paulo:20230322T170000
DTSTAMP:20260421T200944
CREATED:20230303T214020Z
LAST-MODIFIED:20230303T214023Z
UID:9109-1679472000-1679504400@megaquinta.com.br
SUMMARY:Curso de Direção Defensiva Avançada
DESCRIPTION:Vem aí o Curso de Direção Defensiva Avançada da Control Safely!\n  \nCurso de Direção \n+ \nAlmoço e Coffee Break Incluso \n  \nInformações e inscrições: (31) 97138-1570 \nwww.controlsafely.com.br \n  \n  \n 
URL:https://megaquinta.com.br/evento/curso-de-direcao-defensiva-avancada/
LOCATION:Control Safely
CATEGORIES:Automobilismo,Circuito / Competições
ATTACH;FMTTYPE=image/jpeg:https://megaquinta.com.br/wp-content/uploads/2023/03/WhatsApp-Image-2023-03-03-at-14.19.31.jpeg
END:VEVENT
END:VCALENDAR