BEGIN:VCALENDAR
VERSION:2.0
PRODID:-//Megaspace - ECPv6.1.3//NONSGML v1.0//EN
CALSCALE:GREGORIAN
METHOD:PUBLISH
X-WR-CALNAME:Megaspace
X-ORIGINAL-URL:https://megaquinta.com.br
X-WR-CALDESC:Eventos para Megaspace
REFRESH-INTERVAL;VALUE=DURATION:PT1H
X-Robots-Tag:noindex
X-PUBLISHED-TTL:PT1H
BEGIN:VTIMEZONE
TZID:America/Sao_Paulo
BEGIN:STANDARD
TZOFFSETFROM:-0200
TZOFFSETTO:-0300
TZNAME:-03
DTSTART:20120226T020000
END:STANDARD
BEGIN:DAYLIGHT
TZOFFSETFROM:-0300
TZOFFSETTO:-0200
TZNAME:-02
DTSTART:20121021T030000
END:DAYLIGHT
BEGIN:STANDARD
TZOFFSETFROM:-0200
TZOFFSETTO:-0300
TZNAME:-03
DTSTART:20130217T020000
END:STANDARD
BEGIN:DAYLIGHT
TZOFFSETFROM:-0300
TZOFFSETTO:-0200
TZNAME:-02
DTSTART:20131020T030000
END:DAYLIGHT
BEGIN:STANDARD
TZOFFSETFROM:-0200
TZOFFSETTO:-0300
TZNAME:-03
DTSTART:20140216T020000
END:STANDARD
BEGIN:DAYLIGHT
TZOFFSETFROM:-0300
TZOFFSETTO:-0200
TZNAME:-02
DTSTART:20141019T030000
END:DAYLIGHT
END:VTIMEZONE
BEGIN:VEVENT
DTSTART;TZID=America/Sao_Paulo:20141122T080000
DTEND;TZID=America/Sao_Paulo:20141123T170000
DTSTAMP:20260424T172344
CREATED:20230127T194232Z
LAST-MODIFIED:20230809T235126Z
UID:2808-1416643200-1416762000@megaquinta.com.br
SUMMARY:Motorday 2014
DESCRIPTION:O Motorday tem a preocupação de permitir que carros de rua possam competir em igualdade\, como forma de extinguir os “rachas” de rua e incentivar novos adeptos ao automobilismo\, sempre de forma bem acessível.\nNeste final de semana tivemos mais uma etapa do evento. Os pilotos\, mais uma\, vez fizeram a festa brilhar! \nTivemos a presença de pilotos de vários estados e a presença do locutor PEPE. E assim fechamos mais um ano com chave de ouro.
URL:https://megaquinta.com.br/evento/motorday-2014/
CATEGORIES:Arrancadas,Automobilismo,Som - Rebaixados
ATTACH;FMTTYPE=image/jpeg:https://megaquinta.com.br/wp-content/uploads/2023/01/motorday2014_01-600x400-1.jpg
END:VEVENT
BEGIN:VEVENT
DTSTART;TZID=America/Sao_Paulo:20141115T080000
DTEND;TZID=America/Sao_Paulo:20141115T170000
DTSTAMP:20260424T172344
CREATED:20230127T193841Z
LAST-MODIFIED:20230803T153323Z
UID:2805-1416038400-1416070800@megaquinta.com.br
SUMMARY:Bloco Pirraça 2014
DESCRIPTION:A noite do último dia 15 de novembro foi marcada pela animação no Mega Space. \nO Bloco Pirraça\, sob o comando da dupla Jorge e Mateus\, Gusttavo Lima\, Israel Novaes e os Djs Dimitri Vegas e Like Mike agitarão uma multidão de foliões que compareceram ao local para prestigiar um dos shows mais esperados de todo o ano. \nO bloco se apresentou pela quarta vez no Mega Space e confirmou um lugar cativo na agenda de shows de Belo Horizonte mais uma vez. No circuito de trio elétrico\, o público lotou o espaço com a presença de cerca de 30 mil pessoas. O público não ficou parado nem um minuto se quer\, agora é esperar pelo próximo. Até lá\, valeu.
URL:https://megaquinta.com.br/evento/bloco-pirraca-2014/
CATEGORIES:Sertanejo,Shows
ATTACH;FMTTYPE=image/jpeg:https://megaquinta.com.br/wp-content/uploads/2023/01/pirraca-2013-1-600x400-1.jpg
END:VEVENT
BEGIN:VEVENT
DTSTART;TZID=America/Sao_Paulo:20141110T080000
DTEND;TZID=America/Sao_Paulo:20141110T170000
DTSTAMP:20260424T172344
CREATED:20230127T193544Z
LAST-MODIFIED:20230809T234512Z
UID:2801-1415606400-1415638800@megaquinta.com.br
SUMMARY:Desafio dos Estados 2014 - Campeonato de Som
DESCRIPTION:A temporada 2014 com certeza irá ficar para sempre na história do som automotivo mineiro! \nCom a presença de carros com os equipamentos mais potentes do Brasil\, o evento fez tremer o chão do Mega Space e disparar o coração dos apaixonados por som automotivo. \nO grave bateu forte e tivemos disputas acirradas\, onde valia cada decibéis a mais! \nA galera curtiu muita musica alta\, gente bonita e uma tarde de muito batidão!
URL:https://megaquinta.com.br/evento/desafio-dos-estados-2014-campeonato-de-som/
CATEGORIES:Automobilismo,Som - Rebaixados
ATTACH;FMTTYPE=image/jpeg:https://megaquinta.com.br/wp-content/uploads/2023/01/campeonatodesom2014_01-copia-600x400-1.jpg
END:VEVENT
BEGIN:VEVENT
DTSTART;TZID=America/Sao_Paulo:20141031T080000
DTEND;TZID=America/Sao_Paulo:20141102T170000
DTSTAMP:20260424T172344
CREATED:20230127T193131Z
LAST-MODIFIED:20230618T230632Z
UID:2797-1414742400-1414947600@megaquinta.com.br
SUMMARY:Mega Grand Prix - Skate Downhill 2014
DESCRIPTION:Um final de semana de muita adrenalina! \nO Mega Space foi palco da disputa da etapa brasileira do Circuito Mundial de Skate Downhill\, homologada pela IDF (International Downhill Federation)\, que contou com os melhores riders do mundo na categoria. \nEsta foi a última etapa do Mundial e podemos conhecer os campeões de 2014.
URL:https://megaquinta.com.br/evento/mega-grand-prix-skate-downhill-2014/
CATEGORIES:Esportes Radicais,Mais Eventos
ATTACH;FMTTYPE=image/jpeg:https://megaquinta.com.br/wp-content/uploads/2023/01/megagrandprix2014_1-600x400-1.jpg
END:VEVENT
BEGIN:VEVENT
DTSTART;TZID=America/Sao_Paulo:20140828T080000
DTEND;TZID=America/Sao_Paulo:20140828T170000
DTSTAMP:20260424T172344
CREATED:20230127T192619Z
LAST-MODIFIED:20230619T000904Z
UID:2792-1409212800-1409245200@megaquinta.com.br
SUMMARY:10 anos do 35º Batalhão - PMMG Santa Luzia 2014
DESCRIPTION:Aconteceu na última quinta-feira dia 28.08.14 no Mega Space a comemoração dos 10 anos do 35º batalhão de santa luzia\, com a presença de várias autoridades\, entrega de placas e o desfile das tropas para encerrar o evento. Parabéns a o todos os militares que fizeram parte desses 10 anos de história!
URL:https://megaquinta.com.br/evento/10-anos-do-35o-batalhao-pmmg-santa-luzia-2014/
CATEGORIES:Eventos Militares,Mais Eventos
ATTACH;FMTTYPE=image/jpeg:https://megaquinta.com.br/wp-content/uploads/2023/01/35-pmmg_01-600x400-1.jpg
END:VEVENT
BEGIN:VEVENT
DTSTART;TZID=America/Sao_Paulo:20140805T080000
DTEND;TZID=America/Sao_Paulo:20140805T220000
DTSTAMP:20260424T172344
CREATED:20230127T192303Z
LAST-MODIFIED:20230618T230040Z
UID:2789-1407225600-1407276000@megaquinta.com.br
SUMMARY:Equipo Mining 2014
DESCRIPTION:A Equipo Mining contou com a presença de várias empresas expositoras\, que montaram seus estandes para apresentação de produtos e lançamentos. Durante os quatro dias do evento\, aconteceram demonstrações ao vivo de máquinas e equipamentos num espaço aberto de 12 mil metros quadrados\, além de palestras sobre os investimentos atuais e futuros das maiores mineradoras do país\, em auditório especialmente montado para o evento. \nO evento registrou a presença média de 3.000 clientes e expositores por dia.
URL:https://megaquinta.com.br/evento/equipo-mining-2014/
CATEGORIES:Equipo Mining,Feiras e Exposições,Mais Eventos
ATTACH;FMTTYPE=image/jpeg:https://megaquinta.com.br/wp-content/uploads/2023/01/equipomining10-l-600x400-1.jpg
END:VEVENT
BEGIN:VEVENT
DTSTART;TZID=America/Sao_Paulo:20140613T080000
DTEND;TZID=America/Sao_Paulo:20140613T170000
DTSTAMP:20260424T172344
CREATED:20230127T190749Z
LAST-MODIFIED:20230615T225803Z
UID:2785-1402646400-1402678800@megaquinta.com.br
SUMMARY:Treinamento da Polícia Rodoviária Federal 2014
DESCRIPTION:O circuito Mega Space recebeu a equipe da Polícia Rodoviária Federal para um treinamento de seus batedores\, com o objetivo de aprimorar suas técnicas de pilotagem e direção.
URL:https://megaquinta.com.br/evento/treinamento-da-policia-rodoviaria-federal-2014/
CATEGORIES:Curso de Pilotagem / Track Day,Eventos Militares,Mais Eventos,Motociclismo
ATTACH;FMTTYPE=image/jpeg:https://megaquinta.com.br/wp-content/uploads/2023/01/policiarodoviariafederal1-600x400-1.jpg
END:VEVENT
BEGIN:VEVENT
DTSTART;TZID=America/Sao_Paulo:20140517T160000
DTEND;TZID=America/Sao_Paulo:20140517T233000
DTSTAMP:20260424T172344
CREATED:20230127T190456Z
LAST-MODIFIED:20230803T153723Z
UID:2781-1400342400-1400369400@megaquinta.com.br
SUMMARY:VillaMix 2014
DESCRIPTION:Hits do sertanejo\, em todas as suas versões\, marcaram a passagem do Villa Mix\, considerando o maior Festival Sertanejo do Brasil\, em Belo Horizonte. O público – estimado pela organização do envento em cerca de 50 mil pessoas – cantou e dançou\, por mais de 10 horas\, ao som de Humberto & Ronaldo\, Bruno e Marrone\, Gusttavo Lima\, Jorge & Mateus e Israel Novaes. Nos intervalos\, o locutor de rodeios Cuiabano Lima assumia o comando. \nPrimeira a subir no palco\, a dubla Humberto & Ronaldo elogiou os mineiros: “Sempre muito calorosos\, cantando todas as músicas\, é um prazer participar novamente do Villa Mix BH”. Canções como ” Só vou beber mais hoje” e ” Alô DJ” estavam no repertório\, “escolhido para colocar a galera para cima” \, segundo explicou Humberto\, que\, para quem não sabe\, é também compositor\, autor\, entre outras\, de “Amo Noite e Dia”\, a música mais executada em 2010\, na voz da dupla Jorge & Mateus.
URL:https://megaquinta.com.br/evento/villamix-2014/
CATEGORIES:Sertanejo,Shows
ATTACH;FMTTYPE=image/jpeg:https://megaquinta.com.br/wp-content/uploads/2023/01/villamix2014-600x400-1.jpg
END:VEVENT
BEGIN:VEVENT
DTSTART;TZID=America/Sao_Paulo:20140321T080000
DTEND;TZID=America/Sao_Paulo:20140321T170000
DTSTAMP:20260424T172344
CREATED:20230127T190233Z
LAST-MODIFIED:20230605T225841Z
UID:2777-1395388800-1395421200@megaquinta.com.br
SUMMARY:Treinamento PMMG GATE FIAT 2014
DESCRIPTION:Treinamento PMMG GATE FIAT 2014
URL:https://megaquinta.com.br/evento/treinamento-pmmg-gate-fiat-2014/
CATEGORIES:Automobilismo,Eventos Corporativos,Eventos Militares,Mais Eventos
ATTACH;FMTTYPE=image/jpeg:https://megaquinta.com.br/wp-content/uploads/2023/01/treinamentopmmg_gate_2014_01-600x400-1.jpg
END:VEVENT
BEGIN:VEVENT
DTSTART;TZID=America/Sao_Paulo:20140313T180000
DTEND;TZID=America/Sao_Paulo:20140313T233000
DTSTAMP:20260424T172344
CREATED:20230127T185827Z
LAST-MODIFIED:20230809T234030Z
UID:2773-1394733600-1394753400@megaquinta.com.br
SUMMARY:Mega Quinta - 2014
DESCRIPTION:O lugar dos amantes do automobilismo! \nA temporada 2014 da Mega Quinta contou com as melhores atrações e um público apaixonado por carros e velocidade!
URL:https://megaquinta.com.br/evento/mega-quinta-2014/
CATEGORIES:Automobilismo,Mega Quinta
ATTACH;FMTTYPE=image/jpeg:https://megaquinta.com.br/wp-content/uploads/2023/01/megaquinta2008-600x400-2.jpg
END:VEVENT
BEGIN:VEVENT
DTSTART;TZID=America/Sao_Paulo:20140208T170000
DTEND;TZID=America/Sao_Paulo:20140208T233000
DTSTAMP:20260424T172344
CREATED:20230127T184824Z
LAST-MODIFIED:20230810T020827Z
UID:2770-1391878800-1391902200@megaquinta.com.br
SUMMARY:Valeu\, Foi bom\, Adeus! 2014
DESCRIPTION:Belo Horizonte não poderia ficar de fora da turnê de despedida de um dos maiores cantores de Axé de todos os tempos. \nOs mineiros\, em especial os Belorizontinos\, tem um carinho imenso pelo Bell e esse show foi uma forma de demonstrar isso\, como não poderia deixar de ser o show foi um sucesso\, já estamos com saudades.
URL:https://megaquinta.com.br/evento/valeu-foi-bom-adeus-2014/
CATEGORIES:Axé,Shows
ATTACH;FMTTYPE=image/jpeg:https://megaquinta.com.br/wp-content/uploads/2023/01/chicletecombanana2014-600x400-1.jpg
END:VEVENT
BEGIN:VEVENT
DTSTART;TZID=America/Sao_Paulo:20131109T160000
DTEND;TZID=America/Sao_Paulo:20131109T233000
DTSTAMP:20260424T172344
CREATED:20230127T184600Z
LAST-MODIFIED:20230810T021020Z
UID:2768-1384012800-1384039800@megaquinta.com.br
SUMMARY:Bloco Pirraça 2013
DESCRIPTION:BLOCO PIRRAÇA AGITA FOLIÕES NO MEGA SPACE\nA noite do último dia 09 de novembro foi marcada pela animação no Mega Space. O Bloco Pirraça\, sob o comando da dupla Jorge e Mateus \,Gusttavo Lima e Israel Novaes\, agitaram uma multidão de foliões que compareceram ao local para prestigiar um dos shows mais esperados de todo o ano. O bloco se apresentou pela segunda vez no Mega Space e confirmou um lugar cativo na agenda de shows de Santa Luzia cidade metropolitana de BH. No circuito de trio elétrico\, o público lotou o espaço com a presença de cerca de 30 mil pessoas. Entre as músicas que embalaram a multidão\, estavam os sucessos do Gusttavo Lima como “Balada”\,”Gatinha Assanhada” entre outros. Já a dupla Jorge e Mateus não deixou ninguém parado tocando todos seus grandes sucessos como “De tanto te querer”\, “Eu quero só você” e “Voa Beija-Flor”. Além dos dois artistas\, o cantor Israel Novaes\, com hit Vó to estourado”se apresentou com muita animação encerrando o show e agitando o público até o último momento.
URL:https://megaquinta.com.br/evento/bloco-pirraca-2013/
CATEGORIES:Sertanejo,Shows
ATTACH;FMTTYPE=image/png:https://megaquinta.com.br/wp-content/uploads/2023/01/pirraca-2013-1-1-600x400-1.png
END:VEVENT
BEGIN:VEVENT
DTSTART;TZID=America/Sao_Paulo:20131102T140000
DTEND;TZID=America/Sao_Paulo:20131103T140000
DTSTAMP:20260424T172344
CREATED:20230127T175824Z
LAST-MODIFIED:20230803T215408Z
UID:2764-1383400800-1383487200@megaquinta.com.br
SUMMARY:Circuito Banco do Brasil - Red Hot Chilli Peppers - 2013
DESCRIPTION:A Edição mineira do Circuito Banco do Brasil lotou o Mega Space. A grande atração do evento foi o Red Hot Chili Peppers\, mas também se apresentaram o grupo indie norte-americano Yeah Yeah Yeahs \, O Rappa e Jota Quest. \nUm pista de skate foi montada para a realização da Copa Brasil de Skate Vertical\, realizada em parceria com a Confederação Brasileira de Skate.
URL:https://megaquinta.com.br/evento/circuito-banco-do-brasil-red-hot-chilli-peppers-2013/
CATEGORIES:Internacionais,Shows
ATTACH;FMTTYPE=image/jpeg:https://megaquinta.com.br/wp-content/uploads/2023/01/circuitoBB-600x400-1.jpg
END:VEVENT
BEGIN:VEVENT
DTSTART;TZID=America/Sao_Paulo:20131024T080000
DTEND;TZID=America/Sao_Paulo:20131027T170000
DTSTAMP:20260424T172344
CREATED:20230127T175534Z
LAST-MODIFIED:20230803T215950Z
UID:2760-1382601600-1382893200@megaquinta.com.br
SUMMARY:Mega Grand Prix - Skate Downhill 2013
DESCRIPTION:Considerada uma das melhores regiões para a prática do skate downhill\, Minas Gerais foi presenteada como a sede da última etapa do Campeonato Mundial da modalidade. \nOs melhores atletas do mundo estiveram no Mega Space\, que voltou a ser sede do Mundial\, assim como aconteceu no ano passado. \nO evento contou com os principais pilotos\, que desceram a pista do Mega em uma velocidade de até 100km/hora. \nO evento durou 03 dias: na sexta-feira os pilotos fizeram um reconhecimento da pista\, no sábado tiveram a tomada de tempo para a grande decisão de domingo. \nUm dos grandes nomes do Brasil é Max Ballesteros\, que chegou a estar no top 10.
URL:https://megaquinta.com.br/evento/mega-grand-prix-skate-downhill-2013/
CATEGORIES:Esportes Radicais,Mais Eventos
ATTACH;FMTTYPE=image/jpeg:https://megaquinta.com.br/wp-content/uploads/2023/01/dowhill13_01-600x400-1.jpeg
END:VEVENT
BEGIN:VEVENT
DTSTART;TZID=America/Sao_Paulo:20131013T080000
DTEND;TZID=America/Sao_Paulo:20131013T170000
DTSTAMP:20260424T172344
CREATED:20230127T175326Z
LAST-MODIFIED:20230809T232838Z
UID:2758-1381651200-1381683600@megaquinta.com.br
SUMMARY:Campeonato de Som 2013
DESCRIPTION:Mais uma vez o grave invadiu a pista do Mega Space. \nOs fãs de som automotivo puderam curtir os equipamentos mais potentes do país em disputas de fazer tremer a pista do Mega. \n 
URL:https://megaquinta.com.br/evento/campeonato-de-som-2013/
CATEGORIES:Automobilismo,Som - Rebaixados
ATTACH;FMTTYPE=image/jpeg:https://megaquinta.com.br/wp-content/uploads/2023/01/cirucitometropolitano_01-600x400-1.jpg
END:VEVENT
BEGIN:VEVENT
DTSTART;TZID=America/Sao_Paulo:20130921T080000
DTEND;TZID=America/Sao_Paulo:20130921T170000
DTSTAMP:20260424T172344
CREATED:20230127T175127Z
LAST-MODIFIED:20230605T230846Z
UID:2754-1379750400-1379782800@megaquinta.com.br
SUMMARY:VW Driving Experience 2013
DESCRIPTION:Mais um super evento da Volkswagen no autódromo do Mega. \nO VW Driving Experience trouxe vários lançamentos de modelos para os convidados acelerarem na pista\, como o novo GOLF e o Jetta. Sensação única de poder curtir uma máquina com a mais alta tecnologia e conforto\, na pista de autódromo de verdade! \nO evento contou com uma organização impecável e deixou sua marca como um dos melhores Test Drives já realizados por aqui. \n 
URL:https://megaquinta.com.br/evento/vw-driving-experience-2013/
CATEGORIES:Automobilismo,Eventos Empresariais,Montadoras de Automóveis,Volkswagen
ATTACH;FMTTYPE=image/jpeg:https://megaquinta.com.br/wp-content/uploads/2023/01/vwDrivingExperience2013_01-600x400-1.jpg
END:VEVENT
BEGIN:VEVENT
DTSTART;TZID=America/Sao_Paulo:20130816T080000
DTEND;TZID=America/Sao_Paulo:20130816T170000
DTSTAMP:20260424T172344
CREATED:20230127T174650Z
LAST-MODIFIED:20230605T231549Z
UID:2749-1376640000-1376672400@megaquinta.com.br
SUMMARY:ZF Ecoshow 2013
DESCRIPTION:Evento da ZF – Transmissão Automática Ecoshow 2013
URL:https://megaquinta.com.br/evento/zf-ecoshow-2013/
ATTACH;FMTTYPE=image/jpeg:https://megaquinta.com.br/wp-content/uploads/2023/01/ZF-ecoshow_2013_01-600x400-1.jpg
END:VEVENT
BEGIN:VEVENT
DTSTART;TZID=America/Sao_Paulo:20130811T080000
DTEND;TZID=America/Sao_Paulo:20130811T170000
DTSTAMP:20260424T172344
CREATED:20230127T152952Z
LAST-MODIFIED:20230618T215724Z
UID:2697-1376208000-1376240400@megaquinta.com.br
SUMMARY:Harley Davidson 2012
DESCRIPTION:A Harley-Davidson realizou uma ação promocional para os clientes. Os 20 primeiros que compraram a motocicleta Harley-Davidson Sportster® XR 1200X™ na concessionária BH Harley-Davidson ganharam um exclusivo Curso de pilotagem. \nO curso foi realizado no dia 11 de agosto no Autódromo do Mega Space\, e ministrado por Rafael Paschoalin\, renomado piloto brasileiro\, campeão do Supermoto em 2008 e das 500 Milhas de Interlagos em 2009 e primeiro brasileiro a correr a North West 200\, na Irlanda do Norte\, uma das corridas mais perigosas e velozes do mundo.
URL:https://megaquinta.com.br/evento/harley-davidson-2012/
CATEGORIES:Eventos Empresariais,Mais Eventos,Motociclismo,Test Ride
ATTACH;FMTTYPE=image/jpeg:https://megaquinta.com.br/wp-content/uploads/2023/01/harleydavidson-1-600x400-1.jpg
END:VEVENT
BEGIN:VEVENT
DTSTART;TZID=America/Sao_Paulo:20130727T080000
DTEND;TZID=America/Sao_Paulo:20130727T170000
DTSTAMP:20260424T172344
CREATED:20230605T232842Z
LAST-MODIFIED:20230605T233556Z
UID:16264-1374912000-1374944400@megaquinta.com.br
SUMMARY:Volvo Experience 2013
DESCRIPTION:
URL:https://megaquinta.com.br/evento/volvo-experience-2013/
ATTACH;FMTTYPE=image/jpeg:https://megaquinta.com.br/wp-content/uploads/2023/06/2013volvoexperience_01.jpg
END:VEVENT
BEGIN:VEVENT
DTSTART;TZID=America/Sao_Paulo:20130629T200000
DTEND;TZID=America/Sao_Paulo:20130629T233000
DTSTAMP:20260424T172344
CREATED:20230127T174356Z
LAST-MODIFIED:20230803T220258Z
UID:2745-1372536000-1372548600@megaquinta.com.br
SUMMARY:VillaMix 2013
DESCRIPTION:Um espetáculo a parte! Assim pode ser definido o Villa Mix BH\, festival que reuniu os maiores nomes da música sertaneja no último sábado (29)\, no Mega Space.\nO evento que contou com uma mega estrutura\, trazida diretamente de Goiânia\, recebeu cerca de 40 mil pessoas\, em mais de 8 horas de festa. O line up contou com shows dos anfitriões Jorge & Mateus\, as duplas Humberto & Ronaldo e Guilherme & Santiago\, e os cantores Gusttavo Lima e Naldo.\nOs responsáveis por abrir o evento foram Humberto & Ronaldo. Os amigos goianos que têm hits nas paradas de sucesso desde 2008\, quando estrearam\, fizeram um show inesquecível.\nPara encerrar com chave de ouro esta noite histórica\, um show bem diferente dos primeiros. Naldo levou para o festival sertanejo\, toda a alegria e suingue do funk carioca. O hitmaker não permitiu que ninguém ficasse parado e fez todo mundo dançar com Amor de Chocolate\, Joga\, Exagerado Chantilly e muito mais. Assim foi o Villa Mix BH\, um espetáculo a parte!
URL:https://megaquinta.com.br/evento/villamix-2013/
CATEGORIES:Sertanejo,Shows
ATTACH;FMTTYPE=image/jpeg:https://megaquinta.com.br/wp-content/uploads/2023/01/villamix1-2013-600x400-1.jpg
END:VEVENT
BEGIN:VEVENT
DTSTART;TZID=America/Sao_Paulo:20130615T080000
DTEND;TZID=America/Sao_Paulo:20130615T170000
DTSTAMP:20260424T172344
CREATED:20230127T174024Z
LAST-MODIFIED:20230206T145434Z
UID:2741-1371283200-1371315600@megaquinta.com.br
SUMMARY:BMW Ultimate Experience 2013
DESCRIPTION:Mais um BMW Experience que encantou a todos os convidados. \nO evento\, com uma organização impecável\, trouxe os mais novos lançamentos da BMW para a pista do Mega Space. \nQuem esteve presente pode curtir a experiência de acelerar algumas das melhores e mais rápidas maquinas do mundo\, em um autódromo de verdade\, com toda segurança e conforto. \n 
URL:https://megaquinta.com.br/evento/bmw-ultimate-experience-2013/
CATEGORIES:Automobilismo,BMW,Eventos Corporativos,Mais Eventos,Montadoras de Automóveis
ATTACH;FMTTYPE=image/jpeg:https://megaquinta.com.br/wp-content/uploads/2023/01/bmwultimateexperience2013_01-600x400-1.jpg
END:VEVENT
BEGIN:VEVENT
DTSTART;TZID=America/Sao_Paulo:20130614T080000
DTEND;TZID=America/Sao_Paulo:20130614T170000
DTSTAMP:20260424T172344
CREATED:20230127T173509Z
LAST-MODIFIED:20230206T150307Z
UID:2737-1371196800-1371229200@megaquinta.com.br
SUMMARY:Curso de Formação de Batedores do Exército 2013
DESCRIPTION:Curso de batedores promovido pelo exército brasileiro\, realizado aqui no Mega Space e teve a participação da 4º Cia. PE – 35º PELPE – e as polícias Federais e Estaduais ( PRF – PRE e ROTAM ). Foram utilizadas neste curso motos HARLEY DAVDSON 1690cc\, FALCOM 400cc – XRE 300cc e CB 500cc.
URL:https://megaquinta.com.br/evento/curso-de-formacao-de-batedores-do-exercito-2013/
CATEGORIES:Curso de Pilotagem / Track Day,Mais Eventos,Motociclismo
ATTACH;FMTTYPE=image/jpeg:https://megaquinta.com.br/wp-content/uploads/2023/01/curso-batedores-exercito-1-600x400-1.jpg
END:VEVENT
BEGIN:VEVENT
DTSTART;TZID=America/Sao_Paulo:20130525T080000
DTEND;TZID=America/Sao_Paulo:20130525T170000
DTSTAMP:20260424T172344
CREATED:20230127T162408Z
LAST-MODIFIED:20230808T233028Z
UID:2734-1369468800-1369501200@megaquinta.com.br
SUMMARY:Nana Fest 2013
DESCRIPTION:O evento mais esperado pelos chicleteiros mineiros reuniu no último sábado (25)\, milhares de foliões no Mega Space. A festa que tem como anfitriões Bell Marques e a banda Chiclete com Banana\, contou também com as participações de MC Sapão\, o sertanejo Lucas Lucco\, os baianos do Oito7Nove4 e a banda Harmonia do Samba. \nO carioca Sapão foi o responsável por abrir o Nana Fest 2013. Além do funk\, o MC surpreendeu o público cantando canções de pop rock e reggae. O hit Salve Jorge de Seu Jorge e algumas músicas do Natiruts estavam no repertório do carioca. Sapão aproveitou o show para homenagear Chorão com Zoio de Lula. Além de um repertório eclético\, o funkeiro convidou para subir em seu trio a revelação Anitta\, que levou o público ao delírio com o sucesso Show das Poderosas. \nO responsável por dar continuidade à festa foi o cantor Lucas Lucco\, que apresentou ao público seu funknejo. Os sucessos Princesinha e Pac Man marcaram a apresentação do sertanejo.
URL:https://megaquinta.com.br/evento/nana-fest-2013/
CATEGORIES:Axé,Shows
ATTACH;FMTTYPE=image/jpeg:https://megaquinta.com.br/wp-content/uploads/2023/01/nanafest2013-600x400-1.jpg
END:VEVENT
BEGIN:VEVENT
DTSTART;TZID=America/Sao_Paulo:20130518T080000
DTEND;TZID=America/Sao_Paulo:20130518T170000
DTSTAMP:20260424T172344
CREATED:20230127T162043Z
LAST-MODIFIED:20230530T021523Z
UID:2731-1368864000-1368896400@megaquinta.com.br
SUMMARY:Drift Show 2013
DESCRIPTION:Disputas de tirar o fôlego da galera marcaram o Drift Show 2013! \n  \nValeu a pena esperar\, o Mega Space mais uma vez abriu as portas para receber um dos maiores eventos de DRIFT\, foi neste fim de semana e como não podia deixar de ser\, com muita emoção e adrenalina.
URL:https://megaquinta.com.br/evento/drift-show-2013/
CATEGORIES:Automobilismo,Drift
ATTACH;FMTTYPE=image/jpeg:https://megaquinta.com.br/wp-content/uploads/2023/01/driftshow22013_01-600x400-1.jpg
END:VEVENT
BEGIN:VEVENT
DTSTART;TZID=America/Sao_Paulo:20130421T080000
DTEND;TZID=America/Sao_Paulo:20130421T170000
DTSTAMP:20260424T172344
CREATED:20230127T161820Z
LAST-MODIFIED:20230809T232114Z
UID:2727-1366531200-1366563600@megaquinta.com.br
SUMMARY:Campeonato Mineiro e Brasileiro de Arrancada 2013
DESCRIPTION:Nem mesmo a chuva que caiu atrapalhou a GRANDE FINAL do Mineiro de Arrancada. \nUm bom público marcou presença na pista do Mega Space e pode conferir arrancadas de tirar o fôlego. Os pilotos pisaram fundo em busca dos menores tempos e a galera pode se divertir com toda a adrenalina e emoção do som dos motores e da fumaça a cada burnout. \n 
URL:https://megaquinta.com.br/evento/campeonato-mineiro-e-brasileiro-de-arrancada-2013/
CATEGORIES:Arrancadas,Automobilismo
ATTACH;FMTTYPE=image/jpeg:https://megaquinta.com.br/wp-content/uploads/2023/01/campeonatomineirodearrancada_2012_01-600x400-2.jpg
END:VEVENT
BEGIN:VEVENT
DTSTART;TZID=America/Sao_Paulo:20130324T080000
DTEND;TZID=America/Sao_Paulo:20130324T170000
DTSTAMP:20260424T172344
CREATED:20230127T160329Z
LAST-MODIFIED:20230530T044534Z
UID:2723-1364112000-1364144400@megaquinta.com.br
SUMMARY:Copa Minas Rio 2013
DESCRIPTION:Mais uma vez\, o autódromo do Mega foi palco de mais um campeonato de velocidade: A Copa Minas Rio 2013. \nOs pilotos aceleraram fundo no nosso circuito e o que não faltou foi muita adrenalina e velocidade. \nCentímetro a centímetro disputados pelos melhores e mais rápidos pilotos de Minas Gerais e Rio de Janeiro. \n 
URL:https://megaquinta.com.br/evento/copa-minas-rio-2013/
CATEGORIES:Automobilismo,Circuito / Competições
ATTACH;FMTTYPE=image/jpeg:https://megaquinta.com.br/wp-content/uploads/2023/01/copaminasrio2013_01-600x400-1.jpg
END:VEVENT
BEGIN:VEVENT
DTSTART;TZID=America/Sao_Paulo:20130314T080000
DTEND;TZID=America/Sao_Paulo:20130314T170000
DTSTAMP:20260424T172344
CREATED:20230127T155008Z
LAST-MODIFIED:20230809T225934Z
UID:2719-1363248000-1363280400@megaquinta.com.br
SUMMARY:Mega Quinta - 2013
DESCRIPTION:O lugar dos amantes do automobilismo!
URL:https://megaquinta.com.br/evento/mega-quinta-2013/
CATEGORIES:Automobilismo,Mega Quinta
ATTACH;FMTTYPE=image/jpeg:https://megaquinta.com.br/wp-content/uploads/2023/01/megaquinta2013-600x400-1.jpg
END:VEVENT
BEGIN:VEVENT
DTSTART;TZID=America/Sao_Paulo:20130201T190000
DTEND;TZID=America/Sao_Paulo:20130201T220000
DTSTAMP:20260424T172344
CREATED:20230127T154730Z
LAST-MODIFIED:20230617T200055Z
UID:2715-1359745200-1359756000@megaquinta.com.br
SUMMARY:Workshop - Circuito Metropolitano 2013
DESCRIPTION:O Mega recebeu o Workshop do Circuito Metropolitano. Com a presença de vários representantes de equipes de som automotivo\, o evento teve como objetivo passar informações\, trocar experiências e falar das novidades da área.
URL:https://megaquinta.com.br/evento/workshop-circuito-metropolitano-2013/
CATEGORIES:Mais Eventos,Palestras,Som - Rebaixados
ATTACH;FMTTYPE=image/jpeg:https://megaquinta.com.br/wp-content/uploads/2023/01/cirucitometropolitano_01-600x400-1.jpg
END:VEVENT
BEGIN:VEVENT
DTSTART;TZID=America/Sao_Paulo:20130126T080000
DTEND;TZID=America/Sao_Paulo:20130126T170000
DTSTAMP:20260424T172344
CREATED:20230127T154429Z
LAST-MODIFIED:20230127T154429Z
UID:2711-1359187200-1359219600@megaquinta.com.br
SUMMARY:Motoschool 2013
DESCRIPTION:Mais um curso para os amantes de motovelocidade. \nO Sportbike + SportBike Advanced é o módulo de entrada da metodologia da escola. É um curso completo que abrange as principais técnicas de pilotagem\, permitindo que você tenha mais controle e domínio da moto\, tendo um dia completo de duração em local seguro\, alternando conteúdo teórico e prático constantemente. \nO curso abrange diversos tópicos\, tais como direcionamento da moto\, controle de aceleração\, frenagem\, posicionamento\, traçado\, conhecimento básico sobre equipamentos e setup da moto\, sensibilidade de velocidade\, entre outros. A Motoschool utiliza metodologia norte-americana e seus instrutores são pilotos profissionais considerados os melhores do país.
URL:https://megaquinta.com.br/evento/motoschool-2013/
CATEGORIES:Curso de Pilotagem / Track Day,Motociclismo
ATTACH;FMTTYPE=image/jpeg:https://megaquinta.com.br/wp-content/uploads/2023/01/motoschool_131-600x400-1.jpg
END:VEVENT
BEGIN:VEVENT
DTSTART;TZID=America/Sao_Paulo:20121209T080000
DTEND;TZID=America/Sao_Paulo:20121209T170000
DTSTAMP:20260424T172344
CREATED:20230530T044440Z
LAST-MODIFIED:20230530T045319Z
UID:14695-1355040000-1355072400@megaquinta.com.br
SUMMARY:Marcas e Pilotos 2012
DESCRIPTION:Apesar de muita ameaça\, a chuva não apareceu neste domingo de tempo de temperatura amena no autódromo do Mega Space\, em Santa Luzia\, região metropolitana de Belo Horizonte\, onde aconteceu a última rodada do Marcas e Pilotos Minas Gerais 2012. \nDepois de 02 anos o Campeonato Mineiro de Marcas e Pilotos retornou com toda a força ao Autódromo Mega Space. O circuito ampliado\, agora com 2.640m de extensão\, e com novo asfalto\, proporcionou fortes emoções aos competidores e ao público que esteve presente. \nAs curvas do novo traçado e o relevo tornam o circuito Mega Space único no Brasil e o coloca como um dos mais técnicos do continente. \nQuem esteve presente pode apreciar grandes disputas e manobras espetaculares. Os pilotos fizeram sua parte demonstrando arrojo e competitividade em todas as baterias. O retorno do Campeonato Mineiro de Marcas e Pilotos marca um novo momento do Automobilismo Mineiro\, que promete ter um brilhante futuro a partir de 2013.
URL:https://megaquinta.com.br/evento/marcas-e-pilotos-2012/
CATEGORIES:Automobilismo,Circuito / Competições
ATTACH;FMTTYPE=image/jpeg:https://megaquinta.com.br/wp-content/uploads/2023/05/marcasepiotos2012_01.jpg
END:VEVENT
END:VCALENDAR