BEGIN:VCALENDAR
VERSION:2.0
PRODID:-//Megaspace - ECPv6.1.3//NONSGML v1.0//EN
CALSCALE:GREGORIAN
METHOD:PUBLISH
X-ORIGINAL-URL:https://megaquinta.com.br
X-WR-CALDESC:Eventos para Megaspace
REFRESH-INTERVAL;VALUE=DURATION:PT1H
X-Robots-Tag:noindex
X-PUBLISHED-TTL:PT1H
BEGIN:VTIMEZONE
TZID:America/Sao_Paulo
BEGIN:STANDARD
TZOFFSETFROM:-0200
TZOFFSETTO:-0300
TZNAME:-03
DTSTART:20180218T020000
END:STANDARD
BEGIN:DAYLIGHT
TZOFFSETFROM:-0300
TZOFFSETTO:-0200
TZNAME:-02
DTSTART:20181104T030000
END:DAYLIGHT
BEGIN:STANDARD
TZOFFSETFROM:-0200
TZOFFSETTO:-0300
TZNAME:-03
DTSTART:20190217T020000
END:STANDARD
END:VTIMEZONE
BEGIN:VEVENT
DTSTART;TZID=America/Sao_Paulo:20201025T080000
DTEND;TZID=America/Sao_Paulo:20201025T170000
DTSTAMP:20260424T081842
CREATED:20230129T150624Z
LAST-MODIFIED:20230129T150624Z
UID:3454-1603612800-1603645200@megaquinta.com.br
SUMMARY:Track Day e Curso - Equipe CLASSE A
DESCRIPTION:Vem aí a terceira edição do Curso de Pilotagem e Track Day da Equipe Classe A em 2020! \n  \nMuita adrenalina e diversão sobre duas rodas! #vemprapista
URL:https://megaquinta.com.br/evento/track-day-e-curso-equipe-classe-a/
CATEGORIES:Curso de Pilotagem / Track Day,Motociclismo
ATTACH;FMTTYPE=image/jpeg:https://megaquinta.com.br/wp-content/uploads/2023/01/IMG_7918-1-600x400-1.jpg
END:VEVENT
BEGIN:VEVENT
DTSTART;TZID=America/Sao_Paulo:20201004T080000
DTEND;TZID=America/Sao_Paulo:20201004T170000
DTSTAMP:20260424T081842
CREATED:20230129T150432Z
LAST-MODIFIED:20230617T182244Z
UID:3449-1601798400-1601830800@megaquinta.com.br
SUMMARY:Bike Day - Triumph BH (Fechado ao público)
DESCRIPTION:Evento Triumph BH – Fechado ao público
URL:https://megaquinta.com.br/evento/bike-day-triumph-bh-fechado-ao-publico/
CATEGORIES:Test Ride
ATTACH;FMTTYPE=image/jpeg:https://megaquinta.com.br/wp-content/uploads/2023/01/triumph1-600x400-1.jpg
END:VEVENT
BEGIN:VEVENT
DTSTART;TZID=America/Sao_Paulo:20200920T080000
DTEND;TZID=America/Sao_Paulo:20200920T170000
DTSTAMP:20260424T081842
CREATED:20230129T145829Z
LAST-MODIFIED:20230719T005035Z
UID:3436-1600588800-1600621200@megaquinta.com.br
SUMMARY:Track Day "Meu track\, minha vida!"
DESCRIPTION:Track Day automobilístico. \n  \nFechado ao público
URL:https://megaquinta.com.br/evento/track-day-meu-track-minha-vida/
CATEGORIES:Automobilismo,Track Day
ATTACH;FMTTYPE=image/jpeg:https://megaquinta.com.br/wp-content/uploads/2023/01/banner_track_petronio1-600x400-1.jpg
END:VEVENT
BEGIN:VEVENT
DTSTART;TZID=America/Sao_Paulo:20200906T080000
DTEND;TZID=America/Sao_Paulo:20200906T170000
DTSTAMP:20260424T081842
CREATED:20230509T015147Z
LAST-MODIFIED:20230509T020403Z
UID:11685-1599379200-1599411600@megaquinta.com.br
SUMMARY:Sprint Race Area 31
DESCRIPTION:
URL:https://megaquinta.com.br/evento/sprint-race-area-31/
ATTACH;FMTTYPE=image/png:https://megaquinta.com.br/wp-content/uploads/2023/05/60854447_625699377896850_1420760793376358400_n.png
END:VEVENT
BEGIN:VEVENT
DTSTART;TZID=America/Sao_Paulo:20200829T080000
DTEND;TZID=America/Sao_Paulo:20200830T170000
DTSTAMP:20260424T081842
CREATED:20230129T145503Z
LAST-MODIFIED:20230129T145503Z
UID:3428-1598688000-1598806800@megaquinta.com.br
SUMMARY:Track Day Classe A
DESCRIPTION:Segunda edição do Track Day e Curso de Pilotagem da Equipe Classe A em 2020! \n  \nSeguindo todos os protocolos de segurança no combate ao Coronavirus\, o evento trouxe para a pista mais um final de semana de muita adrenalina sobre duas rodas. \nAs máquinas de diversos estilos e cilindradas aceleraram com tudo no circuito do Mega Space!
URL:https://megaquinta.com.br/evento/track-day-classe-a-2/
CATEGORIES:Curso de Pilotagem / Track Day,Motociclismo
ATTACH;FMTTYPE=image/jpeg:https://megaquinta.com.br/wp-content/uploads/2023/01/classe-a-set01-600x400-1.jpg
END:VEVENT
BEGIN:VEVENT
DTSTART;TZID=America/Sao_Paulo:20200826T193000
DTEND;TZID=America/Sao_Paulo:20200830T233000
DTSTAMP:20260424T081842
CREATED:20230129T145317Z
LAST-MODIFIED:20230618T140113Z
UID:3423-1598470200-1598830200@megaquinta.com.br
SUMMARY:Mega Cine Drive-in | Pré-estréia
DESCRIPTION:A MAIOR CINEMA A CÉU ABERTO DO MUNDO!\n⠀\nO MEGA SPACE é o local que recebeu a megaestrutura\, seguindo todas as normas sanitárias\n⠀\n🕒SESSÕES:\n19h30 – Minha Mãe é Uma Peça 3 – Classificação: 12 anos\n21h30 – Medo Profundo – Classificação: 14 anos\n⠀\nMais informações pelo WhatsApp: (31) 9 7150 6560\n⠀\nRealização: Go Fest e Grupo MG
URL:https://megaquinta.com.br/evento/mega-cine-drive-in-pre-estreia/
CATEGORIES:Cinema,Eventos Drive-in,Mais Eventos
ATTACH;FMTTYPE=image/jpeg:https://megaquinta.com.br/wp-content/uploads/2023/01/megacinedrivein1-600x400-1.jpg
END:VEVENT
BEGIN:VEVENT
DTSTART;TZID=America/Sao_Paulo:20200825T080000
DTEND;TZID=America/Sao_Paulo:20200825T170000
DTSTAMP:20260424T081842
CREATED:20230129T145117Z
LAST-MODIFIED:20230129T145117Z
UID:3419-1598342400-1598374800@megaquinta.com.br
SUMMARY:Treinamento Batedores - PRF\, PE\, PF
DESCRIPTION:ossa pista recebeu o treinamento de pilotagem do Exército\, Polícia Federal e Polícia Rodoviária. \nQuem comandou o treinamento foi o piloto multicampeão  Helder Shad \nO evento seguiu todos os protocolos estabelecidos pela OMS\, Ministério da Saúde e Prefeitura de Santa Luzia.
URL:https://megaquinta.com.br/evento/treinamento-batedores-prf-pe-pf/
CATEGORIES:Eventos Militares,Mais Eventos
ATTACH;FMTTYPE=image/jpeg:https://megaquinta.com.br/wp-content/uploads/2023/01/curso_policia_exercitio_batedres1-600x400-1.jpg
END:VEVENT
BEGIN:VEVENT
DTSTART;TZID=America/Sao_Paulo:20200815T080000
DTEND;TZID=America/Sao_Paulo:20200816T170000
DTSTAMP:20260424T081842
CREATED:20230129T144927Z
LAST-MODIFIED:20230618T190817Z
UID:3414-1597478400-1597597200@megaquinta.com.br
SUMMARY:Curso de Pilotagem - Helder Shad
DESCRIPTION:Nos dias 15 e 16 de agosto teremos mais uma etapa do curso de pilotagem e track day com Helder Shad. Evento imperdível para quem ama motociclismo! \nQue tal se tornar um piloto CERTIFICADO por uma das escolas de pilotagem mais respeitadas do Brasil ?!! \nSeja qual for sua moto\, você precisa aprender a conduzir de forma segura e o que fazer em situações de risco. \nNão perca esta grande oportunidade !!! \nInformações e Inscrições : (24) 99395-7940 (Zap) \nInscrições: \nwww.heldershad.com.br \nCurso Avançado: \nFrenagem – Slide/ Power Slide\nPosicionamento Corporal\nTécnicas de Largada
URL:https://megaquinta.com.br/evento/curso-de-pilotagem-helder-shad/
CATEGORIES:Curso de Pilotagem / Track Day,Motociclismo
ATTACH;FMTTYPE=image/jpeg:https://megaquinta.com.br/wp-content/uploads/2023/01/Heldershad_novo_chamada-600x400-1.jpg
END:VEVENT
BEGIN:VEVENT
DTSTART;TZID=America/Sao_Paulo:20200725T080000
DTEND;TZID=America/Sao_Paulo:20200725T170000
DTSTAMP:20260424T081842
CREATED:20230129T144559Z
LAST-MODIFIED:20230618T184113Z
UID:3409-1595664000-1595696400@megaquinta.com.br
SUMMARY:Track Day Classe A
DESCRIPTION:Vem aí mais uma edição do Track Day e Curso de Pilotagem da Equipe Classe A! \nVenha pilotar sua moto com toda a segurança de um circuito fechado e se divertir com outros pilotos. \nVagas limitadas. Garanta já a sua!
URL:https://megaquinta.com.br/evento/track-day-classe-a/
CATEGORIES:Curso de Pilotagem / Track Day,Motociclismo
ATTACH;FMTTYPE=image/jpeg:https://megaquinta.com.br/wp-content/uploads/2023/01/banner01_sitenovo_classeA-600x400-1.jpg
END:VEVENT
BEGIN:VEVENT
DTSTART;TZID=America/Sao_Paulo:20200315T080000
DTEND;TZID=America/Sao_Paulo:20200315T170000
DTSTAMP:20260424T081842
CREATED:20230129T144120Z
LAST-MODIFIED:20230530T042926Z
UID:3400-1584259200-1584291600@megaquinta.com.br
SUMMARY:Classic Cup 2020
DESCRIPTION:Um começo mais que animador.\n  \nO domingo de treinos coletivos para as novas Fórmula Open MG e Super-turismo & Protótipos; além da Classic Cup mineira\, reuniu um pelotão considerável de máquinas no Mega Space. E confirmou que a temporada tem tudo para marcar um novo momento no automobilismo mineiro. \nForam oito monopostos em ação – uma lista que inclui modelos das fórmulas Ford\, Chevrolet e Renault. E além dos pilotos já confirmados na primeira temporada da Fórmula Open MG\, houve quem aproveitasse para um contato inicial com a categoria\, já planejando sua participação. Tão ou mais importante do que os tempos registrados para o traçado de 2\,4 quilômetros foi fazer observações e ajustes ­– nesse aspecto\, o domingo se transformou num shakedown coletivo. E a certeza de que um sonho de tanto tempo finalmente vai se concretizar. \nO mesmo acontece com as máquinas que têm tudo para compor o grid da Superturismo & Protótipos. O campeonato é aberto à participação de todos os tipos de veículos de competição com rodas cobertas. Vários carros no regulamento Marcas 1.600cc (não mais adotado no estado) ganharam a pista\, e há outros sendo preparados para entrar na disputa. \nEm seu quarto ano\, a Classic acena com recorde de participantes e variedade ainda maior de máquinas. Dos populares VW Passat\, Chevrolet Chevette e Fiat 147 aos mais raros Karmann-Ghia e Puma. Assim como na Fórmula Open\, vários pilotos tiveram seu primeiro contato com os ‘velhinhos’ e se movimentam para ingressar na competição. \nCurso\nOutra atração do fim de semana foi o curso de pilotagem 14 Racing. Que deu\, aos entusiastas da velocidade\, a chance de aprender noções e técnicas de pista com craques do esporte. Feras como Victor Corrêa (ex-piloto da F-3 Inglesa e da Radical Cup\, além de campeão brasileiro de Rally de Velocidade em 2018); Huéber Cimini Júnior\, Wilton Pena (Turismo Nacional)\, Lucca Paulinelli\, Amaury Gonçalves\, Milton Santos e Gui Figueiredo.
URL:https://megaquinta.com.br/evento/classic-cup-2020/
CATEGORIES:Automobilismo,Circuito / Competições
ATTACH;FMTTYPE=image/jpeg:https://megaquinta.com.br/wp-content/uploads/2023/01/classiccup_2020_01-600x400-1.jpg
END:VEVENT
BEGIN:VEVENT
DTSTART;TZID=America/Sao_Paulo:20200312T180000
DTEND;TZID=America/Sao_Paulo:20200312T233000
DTSTAMP:20260424T081842
CREATED:20230129T143926Z
LAST-MODIFIED:20230203T033240Z
UID:3396-1584036000-1584055800@megaquinta.com.br
SUMMARY:Mega Quinta - A primeira de 2020!
DESCRIPTION:Uma Mega Quinta para entrar para a história!\nMilhares de apaixonados por automobilismo se encontraram no Mega Space para curtir a primeira Mega Quinta de 2020. \nO público pode curtir os melhores desafios de arrancada\, com carros de todos os estilos voando baixo em busca do menor tempo! \nNa arena de som automotivo não faltou gente animada e os maiores paredões! \nCom a presença dos Djs Roginho BH e Moura\, o mega baile agitou a galera com o grave batendo bem forte. \nE para deixar o evento ainda mais perfeito\, tivemos a presença de vários carros antigos e clássicos\, que encheram os olhos dos loucos por automobilismo.
URL:https://megaquinta.com.br/evento/mega-quinta-a-primeira-de-2020/
CATEGORIES:Automobilismo,Mega Quinta
ATTACH;FMTTYPE=image/jpeg:https://megaquinta.com.br/wp-content/uploads/2023/01/bannermegaquinta-600x400-1.jpg
END:VEVENT
BEGIN:VEVENT
DTSTART;TZID=America/Sao_Paulo:20191121T180000
DTEND;TZID=America/Sao_Paulo:20191121T233000
DTSTAMP:20260424T081842
CREATED:20230129T143658Z
LAST-MODIFIED:20230129T143658Z
UID:3390-1574359200-1574379000@megaquinta.com.br
SUMMARY:Mega Quinta - 2019
DESCRIPTION:Toda segunda quinta do mês o ronco dos motores invade a pista de automobilismo e a adrenalina toma conta do Mega Space.\nDiversas atrações mexem com a emoção dos amantes das quatro rodas. \nA temporada 2019 foi um sucesso! Tivemos a presença de grandes youtubers\, como o Alê e a a Leka do Canal 7008 Films\, e Italo Teles do canal Sparrados! \nMuita adrenalina e diversão a todos que compareceram no melhor evento de automobilismo do país!
URL:https://megaquinta.com.br/evento/mega-quinta-2019/
CATEGORIES:Automobilismo,Mega Quinta
ATTACH;FMTTYPE=image/png:https://megaquinta.com.br/wp-content/uploads/2023/01/Captura-de-Tela-2020-04-22-as-20.54.10-600x400-1.png
END:VEVENT
BEGIN:VEVENT
DTSTART;TZID=America/Sao_Paulo:20191112T180000
DTEND;TZID=America/Sao_Paulo:20191112T233000
DTSTAMP:20260424T081842
CREATED:20230129T143450Z
LAST-MODIFIED:20230201T212901Z
UID:3386-1573581600-1573601400@megaquinta.com.br
SUMMARY:Parque Hollywood 2019
DESCRIPTION:O Parque Hollywood chegou ao Mega Space trazendo muita diversão e segurança a todos!\nDiversos brinquedos que fizeram a alegria da criançada e dos papais que estiveram presentes.
URL:https://megaquinta.com.br/evento/parque-hollywood-2019/
CATEGORIES:Mais Eventos,Parques e Circos
ATTACH;FMTTYPE=image/jpeg:https://megaquinta.com.br/wp-content/uploads/2023/01/parquehollywood-600x400-1.jpg
END:VEVENT
BEGIN:VEVENT
DTSTART;TZID=America/Sao_Paulo:20191011T210000
DTEND;TZID=America/Sao_Paulo:20191012T210000
DTSTAMP:20260424T081842
CREATED:20230129T143238Z
LAST-MODIFIED:20230129T143238Z
UID:3381-1570827600-1570914000@megaquinta.com.br
SUMMARY:Baile da Diretoria - All Red 2019
DESCRIPTION:Sucesso por todos os lugares onde passa\, o Baile da Diretoria lotou o Mega Space com muita música boa\, gente bonita e muita alegria! \nA galera ficou até o amanhecer e pode conferir grandes nomes como: Xamã\, Zullu\, Orochi\, Mc Rick\, Dj Henrique de Ferraz\, Mc Menor Mr\, Breno Miranda\, entre outros… \n 
URL:https://megaquinta.com.br/evento/baile-da-diretoria-all-red-2019/
CATEGORIES:Funk,Shows
ATTACH;FMTTYPE=image/jpeg:https://megaquinta.com.br/wp-content/uploads/2023/01/bailedadiretoria_2019_01-600x400-1.jpg
END:VEVENT
BEGIN:VEVENT
DTSTART;TZID=America/Sao_Paulo:20190929T080000
DTEND;TZID=America/Sao_Paulo:20190929T170000
DTSTAMP:20260424T081842
CREATED:20230129T143050Z
LAST-MODIFIED:20230616T011002Z
UID:3377-1569744000-1569776400@megaquinta.com.br
SUMMARY:Equipe Helder Shad - 2019
DESCRIPTION:A Equipe Helder Shad\, já conhecida por toda a sua estrutura e competência\, esteve por mais um ano na pista do Mega Space. \nO evento contou com diversos pilotos que aceleraram em nosso autódromo. Também tivemos vários alunos que participaram do curso de pilotagem com o piloto multicampeão\, Helder Shad. \nO Curso aborda técnicas de pilotagem seguras e prepara os pilotos para uma direção correta\, não só nas pistas\, como também em ruas\, avenidas e estradas. \n 
URL:https://megaquinta.com.br/evento/equipe-helder-shad-2019/
CATEGORIES:Curso de Pilotagem / Track Day,Motociclismo
ATTACH;FMTTYPE=image/jpeg:https://megaquinta.com.br/wp-content/uploads/2023/01/heldershad2018-1-600x400-1.jpg
END:VEVENT
BEGIN:VEVENT
DTSTART;TZID=America/Sao_Paulo:20190927T200000
DTEND;TZID=America/Sao_Paulo:20190927T230000
DTSTAMP:20260424T081842
CREATED:20230129T142909Z
LAST-MODIFIED:20230201T214125Z
UID:3372-1569614400-1569625200@megaquinta.com.br
SUMMARY:15 Anos Solidário 2019
DESCRIPTION:Nesta sexta feira dia 27.09.2019\, tivemos o evento 15 anos solidário promovido pelo Brian Pereira proprietário da empresa MIX FESTAS\, e com apoio do Mega Space ( Espaço ) e mais 80 empresas patrocinadoras\, para proporcionar uma festa completa de 15 anos ( Roupas\, Maquiagem\, Buffet completo\, Coquetéis\, DJ e bandas ) para 17 jovens carentes de nossa cidade e seus familiares.
URL:https://megaquinta.com.br/evento/15-anos-solidario-2019/
CATEGORIES:Eventos Sociais,Mais Eventos
ATTACH;FMTTYPE=image/jpeg:https://megaquinta.com.br/wp-content/uploads/2023/01/15-anos-solidario-600x400-1.jpg
END:VEVENT
BEGIN:VEVENT
DTSTART;TZID=America/Sao_Paulo:20190817T200000
DTEND;TZID=America/Sao_Paulo:20190818T070000
DTSTAMP:20260424T081842
CREATED:20230129T142726Z
LAST-MODIFIED:20230618T160421Z
UID:3365-1566072000-1566111600@megaquinta.com.br
SUMMARY:Baile do Fera 2019
DESCRIPTION:O Mega Space foi palco de mais uma super edição do Baile do Fera! \nO evento contou com a presença de grandes atrações como: Matuê\, FP Trem Bala\, Filipe Ret\, Dj Bianka\, L Da Vinte\, entre outros. \nO público pode se divertir e escutar o melhor do Funk\, Hip Hop e Rap até o dia amanhecer… e teve gente que nem queria ir embora!
URL:https://megaquinta.com.br/evento/baile-do-fera-2019/
CATEGORIES:Funk,Shows
ATTACH;FMTTYPE=image/jpeg:https://megaquinta.com.br/wp-content/uploads/2023/01/bailedofera_2019_01-600x400-1.jpg
END:VEVENT
BEGIN:VEVENT
DTSTART;TZID=America/Sao_Paulo:20190707T100000
DTEND;TZID=America/Sao_Paulo:20190707T170000
DTSTAMP:20260424T081842
CREATED:20230129T142503Z
LAST-MODIFIED:20230605T144749Z
UID:3361-1562493600-1562518800@megaquinta.com.br
SUMMARY:Expobaixos 2019
DESCRIPTION:Expobaixos Minas Gerais: Energia incrível e projetos irados!\n  \nMais uma edição de encher os olhos dos loucos por carros rebaixados. \nO Expobaixos mais uma vez trouxe para o Mega Space o melhor das naves “socadas” e projetos incríveis. \nO público lotou a pista do Mega para admirar carros raspando o chão e os youtubers queridinhos por quem ama um rebaixado: Italo Teles do Sparrados\, D2M e Alê e Leka do 7008 Films.
URL:https://megaquinta.com.br/evento/expobaixos-2019/
CATEGORIES:Automobilismo,Som - Rebaixados
ATTACH;FMTTYPE=image/jpeg:https://megaquinta.com.br/wp-content/uploads/2023/01/banner_expobaixos2019_01-600x400-1.jpg
END:VEVENT
BEGIN:VEVENT
DTSTART;TZID=America/Sao_Paulo:20190609T080000
DTEND;TZID=America/Sao_Paulo:20190609T170000
DTSTAMP:20260424T081842
CREATED:20230129T142334Z
LAST-MODIFIED:20230617T195527Z
UID:3356-1560067200-1560099600@megaquinta.com.br
SUMMARY:Bravus Race 2019
DESCRIPTION:Este domingo foi dia da galera desafiar os seus limites! O Bravus Race reuniu as mais bravos que encararam os maiores desafios da corrida mais insana do país! \n 
URL:https://megaquinta.com.br/evento/bravus-race-2019/
CATEGORIES:Esportes Radicais,Mais Eventos
ATTACH;FMTTYPE=image/jpeg:https://megaquinta.com.br/wp-content/uploads/2023/01/bravusrace_1-600x400-1.jpg
END:VEVENT
BEGIN:VEVENT
DTSTART;TZID=America/Sao_Paulo:20190526T100000
DTEND;TZID=America/Sao_Paulo:20190526T170000
DTSTAMP:20260424T081842
CREATED:20230129T142204Z
LAST-MODIFIED:20230605T141034Z
UID:3352-1558864800-1558890000@megaquinta.com.br
SUMMARY:Exposound 2019
DESCRIPTION:O mais novo evento de Som Automotivo de MG!\n  \nO ExpoSound chegou ao Mega Space como mais uma opção para reunir os apaixonados por som automotivo! \nEles puderam curtir equipamentos potentes\, super paredões e desafios (rachas) de fazer tremer a pista.
URL:https://megaquinta.com.br/evento/exposound-2019/
CATEGORIES:Automobilismo,Som - Rebaixados
ATTACH;FMTTYPE=image/jpeg:https://megaquinta.com.br/wp-content/uploads/2023/01/exposound_2019_1-600x400-1.jpg
END:VEVENT
BEGIN:VEVENT
DTSTART;TZID=America/Sao_Paulo:20190525T150000
DTEND;TZID=America/Sao_Paulo:20190526T060000
DTSTAMP:20260424T081842
CREATED:20230129T142023Z
LAST-MODIFIED:20230719T010048Z
UID:3347-1558796400-1558850400@megaquinta.com.br
SUMMARY:Samba Prime Festival 2019
DESCRIPTION:O maior Festival de samba e pagode do Brasil colocou mais de 65.000 pessoas no Mega Space.\nOs fãs do maior ritmo brasileiro se divertiram e cantaram junto com atrações como Péricles\, Mumuzinho\, Ferrugem\, Turma do Pagode\, Suel\, Thiaguinho\, Belo\, entre outros. \nEvento para pagodeiro nenhum botar defeito!
URL:https://megaquinta.com.br/evento/samba-prime-festival-2019/
CATEGORIES:Pagode,Shows
ATTACH;FMTTYPE=image/jpeg:https://megaquinta.com.br/wp-content/uploads/2023/01/sambaprime_2019-600x400-1.jpg
END:VEVENT
BEGIN:VEVENT
DTSTART;TZID=America/Sao_Paulo:20190331T100000
DTEND;TZID=America/Sao_Paulo:20190331T170000
DTSTAMP:20260424T081842
CREATED:20230129T141817Z
LAST-MODIFIED:20230530T003543Z
UID:3343-1554026400-1554051600@megaquinta.com.br
SUMMARY:Superdrift Brasil 2019
DESCRIPTION:Mais uma temporada de muito sucesso do Superdrift Brasil.\n  \nEm 2019 o Mega recebeu duas etapas da temporada do Superdrift Brasil. \nO evento trouxe alguns dos melhores pilotos da categoria para acelerar  em um dos traçados mais emocionantes do calendário do Drift brasileiro! \nO público pode curtir desafios insanos\, curvas perfeitas\, muita fumaça e a tradicional adrenalina do drift. \nO vencedor da temporada 2019 foi Diego Higa\, seguido de Gustavo Koch e Bruno Bar.
URL:https://megaquinta.com.br/evento/superdrift-brasil-2019/
CATEGORIES:Automobilismo,Circuito / Competições
ATTACH;FMTTYPE=image/jpeg:https://megaquinta.com.br/wp-content/uploads/2023/01/superdriftbrasil_2019_01-600x400-1.jpeg
END:VEVENT
BEGIN:VEVENT
DTSTART;TZID=America/Sao_Paulo:20190323T200000
DTEND;TZID=America/Sao_Paulo:20190323T233000
DTSTAMP:20260424T081842
CREATED:20230129T141619Z
LAST-MODIFIED:20230201T230242Z
UID:3338-1553371200-1553383800@megaquinta.com.br
SUMMARY:Mente Extraordinária 2019
DESCRIPTION:Uma imersão nas questões existenciais do nosso tempo\, com os treinadores: Aline Calixto e Marcelo Junqueira.
URL:https://megaquinta.com.br/evento/mente-extraordinaria-2019/
CATEGORIES:Mais Eventos,Palestras
ATTACH;FMTTYPE=image/jpeg:https://megaquinta.com.br/wp-content/uploads/2023/01/mente_extraordinaria2-600x400-1.jpg
END:VEVENT
BEGIN:VEVENT
DTSTART;TZID=America/Sao_Paulo:20190316T080000
DTEND;TZID=America/Sao_Paulo:20190317T170000
DTSTAMP:20260424T081842
CREATED:20230129T141429Z
LAST-MODIFIED:20230724T181152Z
UID:3334-1552723200-1552842000@megaquinta.com.br
SUMMARY:Sprint Race 2019
DESCRIPTION:O mais novo evento em Bh direcionado aos amantes de arrancada!\n  \nDividido em 3 etapas\, o Sprint Race chegou para ser um dos melhores eventos de arrancadas de MG. \nO evento contou com carros preparados\, pilotos experientes e também novatos\, que voaram baixo na pista de arrancada do Mega em busca do menor tempo. \nO público presente pode curtir disputas emocionantes e ouvir a música do ronco dos motores!
URL:https://megaquinta.com.br/evento/sprint-race-2019/
CATEGORIES:Arrancadas,Automobilismo
ATTACH;FMTTYPE=image/jpeg:https://megaquinta.com.br/wp-content/uploads/2023/01/sprintrace2019-600x400-1.jpg
END:VEVENT
BEGIN:VEVENT
DTSTART;TZID=America/Sao_Paulo:20190308T200000
DTEND;TZID=America/Sao_Paulo:20190308T233000
DTSTAMP:20260424T081842
CREATED:20230129T141226Z
LAST-MODIFIED:20230201T233548Z
UID:3329-1552075200-1552087800@megaquinta.com.br
SUMMARY:Dia Internacional das Mulheres - CAMEL 2019
DESCRIPTION:A união das associadas da Câmara das Mulheres Empreendedoras de Santa Luzia\, para prestigiar e apresentar uma variedade de produtos de qualidade para outras mulheres\, fez com que o evento Camel Com Elas acontecesse com brilho e excelência. \nA Festa realizada no Mega Space foi uma homenagem ao Dia Internacional das Mulheres (08 de março). \nA festa começou com uma palestra comandada por Aline Calixto (Spaço Shanti) – ” Maravilhosamente Mulher ”\nEm seguida\, um desfile de moda com peças das lojas Malu Magazine\, Boutique Elegance\, Salomé Modas Fitness e Chris Lingerie. \nEm meio às atrações\, as participantes degustaram o chopp artesanal da cervejaria Dom Calixto e os quitutes da Gabriella Decorações. Além de conferir os stands das empresas Sem Açúcar\, Mimos e Art”s da Paula. Nature Vitae Homopatia Betânia Vieira Estética. Planeta Nutrição e Medifono\, além de vários outros empreendimentos comandados por mulheres\, que fizeram com que o momento fosse muito especial. \nTexto : Observatório Luziense
URL:https://megaquinta.com.br/evento/dia-internacional-das-mulheres-camel-2019/
CATEGORIES:Mais Eventos,Palestras
ATTACH;FMTTYPE=image/jpeg:https://megaquinta.com.br/wp-content/uploads/2023/01/camel-1-600x400-1.jpg
END:VEVENT
BEGIN:VEVENT
DTSTART;TZID=America/Sao_Paulo:20181027T080000
DTEND;TZID=America/Sao_Paulo:20181027T170000
DTSTAMP:20260424T081842
CREATED:20230128T221418Z
LAST-MODIFIED:20230128T221418Z
UID:3254-1540627200-1540659600@megaquinta.com.br
SUMMARY:Equipe B10 + Piloto Nico Ferreira
DESCRIPTION:Track Day da Equipe B10 no autódromo do Mega Space. \nO evento contou com a participação especial do piloto Espanhol Nico Ferreira.
URL:https://megaquinta.com.br/evento/equipe-b10-piloto-nico-ferreira/
CATEGORIES:Curso de Pilotagem / Track Day,Motociclismo
ATTACH;FMTTYPE=image/jpeg:https://megaquinta.com.br/wp-content/uploads/2023/01/b10_01_2018-600x400-1.jpg
END:VEVENT
BEGIN:VEVENT
DTSTART;TZID=America/Sao_Paulo:20181021T080000
DTEND;TZID=America/Sao_Paulo:20181021T170000
DTSTAMP:20260424T081842
CREATED:20230128T220847Z
LAST-MODIFIED:20230530T003111Z
UID:3243-1540108800-1540141200@megaquinta.com.br
SUMMARY:Superdrift Brasil 2018
DESCRIPTION:SUPER DRIFT BRASIL CHEGA NO MEGA SPACE PELA 1ª VEZ!\nO Superdrift Brasil aterrissou pela primeira vez ao Mega\, considerado um dos melhores circuitos da categoria. \nA quarta etapa do Superdrift Brasil foi um sucesso entre os pilotos e o público que pode curtir a melhor competição de drift do Brasil. \nPalco de competições internacionais de drift\, o Mega Space é o único circuito em formato de montanha no território nacional e garante muitas emoções com o seu traçado de alta que exige muito dos pilotos. O declive impulsiona os carros e extrai o máximo dos pilotos. \n  \nSOBRE O DRIFT\nO Drift é um esporte automobilístico em que a velocidade é apenas um dos requisitos. Ângulo\, agressividade e estilo são analisados por juízes especializados\, que seguem padrões internacionais de pontuação. O piloto deve possuir um alto conhecimento técnico do esporte e de seu carro\, além de estar preparado para acompanhar seu adversário de batalha nas manobras.
URL:https://megaquinta.com.br/evento/superdrift-brasil-2018/
CATEGORIES:Automobilismo,Circuito / Competições
ATTACH;FMTTYPE=image/jpeg:https://megaquinta.com.br/wp-content/uploads/2023/01/superdrift2018_01-600x400-1.jpg
END:VEVENT
BEGIN:VEVENT
DTSTART;TZID=America/Sao_Paulo:20181013T080000
DTEND;TZID=America/Sao_Paulo:20181014T170000
DTSTAMP:20260424T081842
CREATED:20230128T220144Z
LAST-MODIFIED:20230203T005935Z
UID:3235-1539417600-1539536400@megaquinta.com.br
SUMMARY:Race Day 2018
DESCRIPTION:O fim de semana foi de muita velocidade na pista do Mega Space!\nMais uma vez o Race Day trouxe para a pista de arrancada do Mega os carros mais rápidos e desafios de tirar o fôlego. \nAdrenalina e muita velocidade marcaram os dois dias de evento\, que contou também com a presença de carros rebaixados\, clubes de carros\, carros antigos e o público mais apaixonado por automobilismo. \n 
URL:https://megaquinta.com.br/evento/race-day-2018/
CATEGORIES:Arrancadas,Automobilismo
ATTACH;FMTTYPE=image/jpeg:https://megaquinta.com.br/wp-content/uploads/2023/01/raceday2018_01-600x400-1.jpg
END:VEVENT
BEGIN:VEVENT
DTSTART;TZID=America/Sao_Paulo:20180719T200000
DTEND;TZID=America/Sao_Paulo:20180719T233000
DTSTAMP:20260424T081842
CREATED:20230128T215659Z
LAST-MODIFIED:20230618T191420Z
UID:3230-1532030400-1532043000@megaquinta.com.br
SUMMARY:Rodeio Santa Luzia - 2018
DESCRIPTION:Com a presença da sensacional Anitta\, o Rodeio Santa Luzia foi um sucesso! \nA galera pode conferir peões\, cavalos\, muita adrenalina e ainda muita música.\nO evento também teve a apresentação de Léo Santana. \nJá tem gente com saudade!
URL:https://megaquinta.com.br/evento/rodeio-santa-luzia-2018/
CATEGORIES:Rodeio,Shows
ATTACH;FMTTYPE=image/jpeg:https://megaquinta.com.br/wp-content/uploads/2023/01/rodeio1-600x400-1.jpg
END:VEVENT
BEGIN:VEVENT
DTSTART;TZID=America/Sao_Paulo:20180610T080000
DTEND;TZID=America/Sao_Paulo:20180610T170000
DTSTAMP:20260424T081842
CREATED:20230128T215114Z
LAST-MODIFIED:20230128T215114Z
UID:3219-1528617600-1528650000@megaquinta.com.br
SUMMARY:Bravus Race 2018
DESCRIPTION:Neste domingo (10/06/2018 )\, o Mega Space recebeu pela segunda vez a Bravus Race um evento de grande sucesso para organizadores\, competidores e público presente.\nA Bravus Race é dividida em quatro etapas: Etapa Speed Monster: 5km e 18 obstáculo.\, Etapa Monster: 10km e 25 obstáculos\, Etapa Arena: 3km e 15 obstáculos e Etapa Fire: 8km e 20 obstáculos.\nA etapa que aconteceu no Mega Space foi a Speed Monster que envolve 75% de força (trabalhando todo os músculos)\, 100% de velocidade (Objetivo dessa etapa é a agilidade)\, 80% de técnica (estar treinado irá ajudar nesse momento) e 70% de resistência física (a preparação até o evento é crucial).\nMas não basta suar a camisa; na Bravus Race tem que trabalhar em equipe e não ter medo de se sujar de lama para superação do maior número de obstáculos que testam os limites físicos e psicológicos dos competidores. \nPara os 4 mil participantes que redefiniram seus limites na etapa Speed\, não faltou lama nem novos obstáculos; entre eles a Sibéria 4.0 e Bravus Hill\, além do novo Desafio Bravus. Ao todo\, os atletas encararam 18 obstáculos em 5km de prova. \nAgora estamos aguardando ansiosos para a próxima etapa. Que venha 2019!
URL:https://megaquinta.com.br/evento/bravus-race-2018/
CATEGORIES:Mais Eventos
ATTACH;FMTTYPE=image/jpeg:https://megaquinta.com.br/wp-content/uploads/2023/01/bravusrace2018_1-1-600x400-1.jpg
END:VEVENT
END:VCALENDAR